BEGIN:VCALENDAR
PRODID:NingEventWidget-v1
VERSION:2.0
METHOD:PUBLISH
BEGIN:VEVENT
UID:2508951:Event:227896
DTSTAMP:20260421T142913Z
SUMMARY:Click here for SUNDAY 8/18/13 VIRGINIA BEACH ENTERTAINMENT LIS
 TINGS
DESCRIPTION:LIVE ENTERTAINMENT/ DJ’S/ KARAOKE:\n7th Street Stage- Ja
 ck Becker 12pm-4pm, Jesse Chong 6pm-10pm\n17th Street Stage-ZoSo 8pm-1
 0:45pm\n31st Street Stage- Mosaic Steel Band 12pm-4pm, The Deloreans 6
 pm-10pm\nAberdeen Barn- Bryan Dunn\nBahama Breeze- Reggie B 5pm-8pm, T
 revor Phillip 8pm-11pm\nBaja Sandbridge- Rip Chord 6pm-10pm\nBoneshake
 rs Sports Bar and Grill – Skip Friel 2pm-6pm\nCactus Jacks –  D
 J SDot 1pm-5pm\nCalypso- Natures Child 6pm-10pm\nChichos- Bryan Dunn 2
 -5pm, Miles Mulkey 6-9pm\nHarry O’s- Karaoke 9pm\nIl Giardino's- Reg
 inald Blackwell 6:30pm-10:30pm\nJewish Mother- The Coolin Out Band\nKe
 agans Town Center- Karaoke 9pm\nSandbridge Island Grill- Ed Kelleher 4
 pm\nSouth Beach Grill- Mike Proffitt 8pm\nSunset Grille, Kiptopeke- mO
 cean 2pm-5pm\nTapped Gastropub-  Open Mic 9:30pm-1:30am\nTown Center 
 Fountain- Symphonic Orchestra\n \nSPECIAL EVENTS/CONCERTS/ FESTIVALS:
 \n Fireworks – 20th Street Oceanfront 10pm\nCrocs- Drag Yourself to
  Brunch\nPreliminary ECSC – Rudees on the Inlet\nKrendl & Company M
 agical Variety Show- 24th Street Park.  Showtimes are 7:30,8:30 and 9
 :30. All shows are different and feature the largest Magic Company in 
 the Commonwealth of Virginia.\nNaval Airpower Legacy- 25th Street Park
 - 8:45pm-10pm\nBrian Haner (the guitar guy)- Virginia Beach Funny Bone
 \nThe Witch of Pungo- 27th Street Park 8:30pm-10:30pm\nBoardwalk Astro
 nomoy- 24th Street Boardwalk 6pm-11pm\n \n \nCLICK HERE FOR THE BEST
  DEALS & COUPONS IN VIRGINIA BEACH FEATURING EXCLUSIVE BARGAINS\n \n
 CLICK HERE FOR HAPPY HOUR DEALS FEATURING SEVERAL LOCAL RESTAURANTS DA
 ILY SPECIALS\n \nCLICK HERE REACH OUR VENUE'S PAGE TO FIND ADDRESSES
  AND PHONE NUMBERS OF PLACES LISTED\n \nCLICK HERE FOR OUR BAND/DJ PA
 GE TO FIND DESCRIPTION OF THE BANDS AND LINKS TO THEIR WEB PAGES\n\nF
 or more information visit https://vbnightlife.com/events/click-here-fo
 r-sunday-8-18-13-virginia-beach-entertainment-listin
DTSTART:20130818T040000Z
DTEND:20130819T035900Z
CATEGORIES:"virginia beach", "virginia beach nightlife", "virginia bea
 ch bands", "virginia beach entertainment"
LOCATION:Virginia Beach, VA
WEBSITE:
URL:
CONTACT:
ORGANIZER;CN="VBnightlife.com":https://vbnightlife.com/profile/admin
ATTACH;FMTTYPE="image/jpeg":http://storage.ning.com/topology/rest/1.0/
 file/get/1664196769?profile=original
ATTENDEE;ROLE=REQ-PARTICIPANT;PARTSTAT=ACCEPTED;RSVP=TRUE;CN="VBnightl
 ife.com":https://vbnightlife.com/profile/admin
END:VEVENT
END:VCALENDAR
