BEGIN:VCALENDAR
PRODID:NingEventWidget-v1
VERSION:2.0
METHOD:PUBLISH
BEGIN:VEVENT
UID:2508951:Event:199753
DTSTAMP:20260422T224531Z
SUMMARY:Click here for SUNDAY 7/8/12 VIRGINIA BEACH ENTERTAINMENT LIST
 INGS
DESCRIPTION:LIVE ENTERTAINMENT\n7th Street Stage- Butter, 5-9PM\n13th 
 Street- Playlist, 7PM,8PM,9PM\n17th Street Park- Quik Fix, 8-10:45PM\n
 20th Street Park- Weekly Displays, 10PM\n24th Street Park- Krendl & Co
 mpany Magical Variety Show, 7:30PM,8:30PM,9:30PM\n25th Street- Naval A
 irpower Legacy, 8:45 & 9:30PM\n27th Street Park- The Witch of Pungo, 8
 :30PM,9:15PM, 10PM\n31st Street Park- Tropical Steel, 12-4PM, Savannah
 , 7-11PM\nBoneshakers- (Patio) Beadle Brothers, 1-5PM, Open Mic w/ Kar
 l Werne 7-11PM\nBaja- Brent Shepard\nCalypso- Natures Child, 6-10PM\nC
 hix- Butter\nRetro Cafe- Sunday Funday W/DJ NADO\nHavana Nights- Open 
 Jam Sessions (Every Sunday) , Chris Brydge Trio 8-10PM\nJewish Mother-
  George Porter Jr., & Runnin' Pardners\nMurphys- Brent Shepard, 9PM\nS
 oundcheck- VBNightlife Commercial @ Midnight!\nSouth Beach Grill- Mich
 ael Hensen\nSurf Club Ocean Grille- Robbie House & Billy Ethridge, 3-
 6PM\nSunset Beach Resort Hotel- Cheap Thrills, 2-5PM\n \nTHEATRE/FUN
 DRAISERS/CONCERTS/SPORTS:\nFunny Bone Comedy Club- \n \nFAMILY FUN/S
 PECIAL EVENTS:\nDiesel- Dog Days of Summer\nLunasea- Sunday Funday\nWo
 ody McGees - Sunday Funday - Brunch + Bloody Mary Bar 10am - 2pm\nVir
 ginia MOCA- Andy Warhol\n \nDJ’S/KARAOKE/DANCES:\nAJ Gators (Hollan
 d Road)- Texas Hold 'em- 7PM\nKeagans- Karaoke, 9PM\nSecrets- Karaoke 
 w/ El Mike, 8PM-12AM\nWannaB's- KARAOKE 7 PM - 2 AM,Monday - Saturday 
 (21 and Older)\nCLICK HERE FOR HAPPY HOUR DEALS\nCLICK HERE REACH OUR 
 VENUE'S PAGE \nCLICK HERE FOR OUR BAND/DJ PAGE\n\nFor more informatio
 n visit https://vbnightlife.com/events/click-here-for-sunday-7-8-12-vi
 rginia-beach-entertainment-listing
DTSTART:20120708T040000Z
DTEND:20120709T035900Z
CATEGORIES:"virginia beach nightlife", "virginia beach bands", "virgin
 ia beach entertainment"
LOCATION:Virginia Beach
WEBSITE:
URL:
CONTACT:
ORGANIZER:VBnightlife.com (Dionna Campanella)
ATTACH;FMTTYPE="image/jpeg":http://storage.ning.com/topology/rest/1.0/
 file/get/1664172286?profile=original
ATTENDEE;ROLE=REQ-PARTICIPANT;PARTSTAT=ACCEPTED;RSVP=TRUE;CN="VBnightl
 ife.com":https://vbnightlife.com/profile/admin
END:VEVENT
END:VCALENDAR
