BEGIN:VCALENDAR
PRODID:NingEventWidget-v1
VERSION:2.0
METHOD:PUBLISH
BEGIN:VEVENT
UID:2508951:Event:290304
DTSTAMP:20260425T120158Z
SUMMARY:Click here for SUNDAY 7/27/14 VIRGINIA BEACH ENTERTAINMENT LIS
 TINGS
DESCRIPTION:\nDownload the new FREE mobile app for Virginia Beach.  U
 se this link to download http://onelink.to/yae3t5 or search VBnightlif
 e in the iTunes or Google Play stores today and get a complete list of
  events, restaurant recommendations, coupons and more!\nSPECIAL EVENTS
 :\nRed Wing Park: Kicking Cancer in the Cornhole Tournament\n\nLIVE E
 NTERTAINMENT \nBaja -   \nBoneshaker's -  IN the MINDS of SCOTT & 
 JULIE! Patio, 3-7:00pm! We also have a PIN-UP GIRLS PHOTO SHOOT starti
 ng at 1:00pm! See the flyer for more details, ladies, anyone can have 
 a photo shoot with a professional photographer for only $50.00, the ph
 otos can be on a Motorcycle, or and Antique Car!\nCalypso -  Natur'es
  Child 6pm\nEagles Nest -  Rockin' Crush Sundays - BBQ starts at 4pm,
  Audio Affair betins at 9pm \nJerry's Restaurant and Lounge - Chesape
 ake -   Get your 50% off Coupon here:  www.vbhotdeals.com\nLunasea -
  Snackbar Jones 6pm\nMurphy's - Lewis McGehee 7pm to 10 (on the patio
 )\nSandbridge Island Bar & Grill - Sandbridge Rd -  Ed Kelleher 4 to 
 7pm\nShakas - INTERNATIONAL BLUES COMPETITION Local Competition  - TH
 E CONQUEROOS\" + \"BILLY JOE TRIO\nhttps://www.facebook.com/events/84
 1269955899939/?notif_t=plan_user_invited\nSouth Beach Grill -  Jack B
 ecker 9pm\nTapped Gastropub - Open Mic w/ Justin & Jonathan 10pm\nTrad
 ewinds -  Karl Werne,  Eddie Williams & John Toomey 5pm to 8pm\n\nO
 ceanfront Stages and parks at the Boardwalk\n7th St. Stage (12pm–4:0
 0pm) Jack Becker\n7th St. Stage (6pm–10:00pm)  Borderline Crazy\n1
 3th St. Stage (7pm, 8pm,9pm) ..THe wReCk of THe diCTaToR (show)\n17th 
 St. park (8pm–10:45pm) TADOC SALSA BAND\n20th St. (6pm–10:00pm) .
 .fireworks\n24th St. Park (7:30pm, 8:30pm, 9:30pm) Krendl’s Magic Va
 riety Show\n25th St. park (8:45pm, 9:30pm) valoR: THe SToRy of THe na
 vy Seals (show)\nBoardwalk at 27th (8:30pm, 9:15pm, 10pm) The Witch o
 f Pungo (show) \n31st St. Stage (12pm–4:00pm) JUJU & CARIBBEAN STE
 EL\n31st St. Stage (6pm–10:00pm) STRICTLY BIZZNESS\n34th St. Stage
  (6pm–10:00pm) David Carter\n\nFor a 13 Day Forcast of live music t
 hrough out Coastal Virginia / Hampton Roads, visit www.meona.net  
 \n \nCLICK HERE FOR THE BEST DEALS & COUPONS IN VIRGINIA BEACH FEATUR
 ING EXCLUSIVE BARGAINS.\n \nCLICK HERE FOR HAPPY HOUR DEALS FEATURING
  SEVERAL LOCAL RESTAURANTS DAILY SPECIALS\n \n\nFor more information 
 visit https://vbnightlife.com/events/click-here-for-sunday-7-27-14-vir
 ginia-beach-entertainment-listin
DTSTART:20140727T040000Z
DTEND:20140728T035900Z
CATEGORIES:"virginia beach", "virginia beach nightlife", "virginia bea
 ch bands", "virginia beach entertainment"
LOCATION:Virginia Beach, VA
WEBSITE:
URL:
CONTACT:
ORGANIZER;CN="VBnightlife.com":https://vbnightlife.com/profile/admin
ATTACH;FMTTYPE="image/jpeg":http://storage.ning.com/topology/rest/1.0/
 file/get/1664238429?profile=original
ATTENDEE;ROLE=REQ-PARTICIPANT;PARTSTAT=ACCEPTED;RSVP=TRUE;CN="VBnightl
 ife.com":https://vbnightlife.com/profile/admin
END:VEVENT
END:VCALENDAR
