BEGIN:VCALENDAR
PRODID:NingEventWidget-v1
VERSION:2.0
METHOD:PUBLISH
BEGIN:VEVENT
UID:2508951:Event:199673
DTSTAMP:20260420T010633Z
SUMMARY:Click here for SUNDAY 7/15/12 VIRGINIA BEACH ENTERTAINMENT LIS
 TINGS
DESCRIPTION:LIVE ENTERTAINMENT\n7th Street Stage- Spider Love, 5-9PM\n
 13th Street- The Life and Music of Ella Fitzgerald, 7-10PM\n17th Stree
 t Park- Special Trapeze Circus, 7:30PM, 8:30PM,9:30PM\n20th Street Par
 k- Weekly Displays, 10PM\n24th Street Park- Krendl & Company Magical V
 ariety Show, 7:30PM,8:30PM,9:30PM\n25th Street- Naval Airpower Legacy,
  8:45 & 9:30PM\n27th Street Park- The Witch of Pungo, 8:30PM,9:15PM, 1
 0PM\n31st Street Park- Caribbean Steel, 12-4PM, Strictly Bizzness, 7-1
 1PM\nBoneshakers- (Patio) Brent Shepard, 1-5PM, Open Mic w/ Karl Werne
  7-11PM\nCalypso- Natures Child, 6-10PM\nRetro Cafe- Sunday Funday W/D
 J NADO\nHavana Nights- Open Jam Sessions (Every Sunday) , Chris Brydge
  Trio 8-10PM\nMurphys- Brent Shepard, 9PM\nSoundcheck- VBNightlife Com
 mercial @ Midnight!\nSouth Beach Grill- Cheaper than Therapy\nSurf Clu
 b Ocean Grille- The Doug Dunn Duo, 3-6PM\nSunset Beach Resort Hotel- 
 Carbon Jam, 2-5PM\n \nTHEATRE/FUNDRAISERS/CONCERTS/SPORTS:\nFunny Bon
 e Comedy Club- \n \nFAMILY FUN/SPECIAL EVENTS:\nDiesel- Dog Days of 
 Summer\nLunasea- Sunday Funday\nWoody McGees - Sunday Funday - Brunch
  + Bloody Mary Bar 10am - 2pm\nVirginia MOCA- Andy Warhol\n \nDJ’S/
 KARAOKE/DANCES:\nAJ Gators (Holland Road)- Texas Hold 'em- 7PM\nKeagan
 s- Karaoke, 9PM\nSecrets- Karaoke w/ El Mike, 8PM-12AM\nWannaB's- KARA
 OKE 7 PM - 2 AM,Monday - Saturday (21 and Older)\nCLICK HERE FOR HAPPY
  HOUR DEALS\nCLICK HERE REACH OUR VENUE'S PAGE \nCLICK HERE FOR OUR B
 AND/DJ PAGE\n\nFor more information visit https://vbnightlife.com/even
 ts/click-here-for-sunday-7-15-12-virginia-beach-entertainment-listin
DTSTART:20120715T040000Z
DTEND:20120716T035900Z
CATEGORIES:"virginia beach entertainment", "virginia beach nightlife",
  "virginia beach music", "virginia beach bands"
LOCATION:Virginia Beach
WEBSITE:
URL:
CONTACT:
ORGANIZER:VBnightlife.com (Dionna Campanella)
ATTACH;FMTTYPE="image/jpeg":http://storage.ning.com/topology/rest/1.0/
 file/get/1664173409?profile=original
ATTENDEE;ROLE=REQ-PARTICIPANT;PARTSTAT=ACCEPTED;RSVP=TRUE;CN="VBnightl
 ife.com":https://vbnightlife.com/profile/admin
END:VEVENT
END:VCALENDAR
