BEGIN:VCALENDAR
PRODID:NingEventWidget-v1
VERSION:2.0
METHOD:PUBLISH
BEGIN:VEVENT
UID:2508951:Event:311991
DTSTAMP:20260424T063007Z
SUMMARY:Click here for SUNDAY 7/12/15 VIRGINIA BEACH EVENT & ENTERTAIN
 MENT LISTINGS
DESCRIPTION:Special Events\nAdventure ParkÂ at the Virginia AquariumÂ 
 - 9a to 5p - $5 Off General Admission With Promo Code VBLIFE here:Â ht
 tp://bit.ly/1FhDqIF\nAssociation for Research and Enlightenment (A.R.E
 .) Oceanfront Click for events calendar\nPaintball - 58% off onÂ www.V
 Bhotdeals.com\nLongshots Billiards & DartsÂ - Chesapeake - Military Ap
 preciation Day - Free Pool and drink discounts for the military\nMuseu
 m of Contemporary Art (MOCA)Â Now on Exhibit\nFireworks - Virginia Bea
 ch OceanfrontÂ (set off at 20th Street) Weather permitting 10p\n\nLIVE
  ENTERTAINMENT\n7th St Stage -Â JuJu 12p, The Deloreans 7p\n13th St St
 age - The Wreck of the Dictator 8:30p\n17th StÂ Park - Major & the Mon
 backs 8p\n24th St Park -Â My Big Fat Greek Party - Noon to 5p, Krendl 
 & Company Magical Variety Show 7:30p\n25th St Park - Valor:the Story o
 f the US Navy Seals 8:45p\n27th StreetÂ & BoardwalkÂ -The Witch of Pun
 go 8:30p\n31st St Stage -Â David Carter 12p, Tiki Bar Band 7p\n34th St
  Stage -Â Milk Crate Maniacs 12p, Borderline Crazy Trio 7p\nAbbey Road
  Pub - Bat 8:30p\nBahama Breeze Island Grille- Reggie G 4p + Aaron Fir
 estone 7p\nBoneshakers -Â Live MusicÂ 3 to 7p on the patio\nCalypso Ba
 r & Grill - Atlantic Ave-Â Jack BeckerÂ 3p\nChicho's - 29thÂ & Pacific
 -Â Steve ForssÂ 6pm\nCocomo Joe's -Â 31st St -Â Bebop & RockÂ SteadyÂ 
 6p\nEagles NestÂ - Hilltop - Live Music 11am to 2p\nFroggie's Cantina 
 By The BayÂ -Shore Drive-Â Until DawnÂ 4p\nJerry's Restaurant & Lounge
  - Chesapeake -Â NASCARÂ  Â \nKeagan's Irish Pub -Town Center- Karaoke
  9p\nMurphy's Irish PubÂ -Â Nature's ChildÂ 9p\nRY Lounge - Oceanfront
  - Sunday Night Heat w/ DJ D Izzy, DJ Chino, DJ Emannon\nSouth Beach G
 rill - Â Marty Kantwell Band 8p\nTapped Gastropub- Hilltop - Matt Holl
 oman on the patio 2pm thenÂ Exposed Open MicÂ hosted by A Modern MythÂ
  9p\nTubby's Tavern - Open Mic w/ Justin & Jonathan 930pm\nWing King -
  Rosemont-Â COUPON\nWing King - Centerville- COUPON\nWoody McGees - Ho
 lland Rd- Sunday Funday with Happy Hour All Day Long\n\nFor more infor
 mation visit https://vbnightlife.com/events/click-here-for-sunday-7-12
 -15-virginia-beach-event-entertainment-
DTSTART:20150712T040000Z
DTEND:20150713T035900Z
CATEGORIES:"virginia beach", "virginia beach nightlife", easter, "virg
 inia beach bands", "virginia beach entertainment", "events in virginia
  beach", "things to do in virginia beach", "mobile app virginia beach"
LOCATION:Virginia Beach, VA
WEBSITE:
URL:
CONTACT:
ORGANIZER:vbnightlife
ATTACH;FMTTYPE="image/jpeg":http://storage.ning.com/topology/rest/1.0/
 file/get/1664275261?profile=original
ATTENDEE;ROLE=REQ-PARTICIPANT;PARTSTAT=ACCEPTED;RSVP=TRUE;CN="VBnightl
 ife.com":https://vbnightlife.com/profile/admin
END:VEVENT
END:VCALENDAR
