BEGIN:VCALENDAR
PRODID:NingEventWidget-v1
VERSION:2.0
METHOD:PUBLISH
BEGIN:VEVENT
UID:2508951:Event:286701
DTSTAMP:20260423T122430Z
SUMMARY:Click here for SUNDAY 6/1/14 VIRGINIA BEACH ENTERTAINMENT LIST
 INGS
DESCRIPTION:LIVE ENTERTAINMENT/ DJ’S/ KARAOKE:\n5th Street Stage - L
 ittle Big Town + Sam Hunt 7pm\n7th Street Stage-  Gina Dalmas 12 to 4
 ; Tidewater Drive 6 to 10pm\n17th Street Park - Mike Profitt 8pm\n24th
  Street Park - USAF Blue Aces 8pm\n31st Street Stage-  WOUNDED WARRIO
 RS/ USO CONCERT Jamie Tate 12pm then USO Celebration 12:30 to 2pm The 
 Guava Jam Band 2-4; STRICTLY BIZZNESS 5 to 9 \nJagers - The Hark 2 to
  4\nSandbridge Island Bar & Grill - Sandbridge Rd - VB \"ED KELLEHER\"
  4-7pm  \nScandals Patio - VB \"BORDERLINE CRAZY ACOUSTIC\" 2-6pm\n\n
   \nSPECIAL EVENTS/CONCERTS/ FESTIVALS: \n \nCLICK HERE FOR THE BE
 ST DEALS & COUPONS IN VIRGINIA BEACH FEATURING EXCLUSIVE BARGAINS.\n 
 \nCLICK HERE FOR HAPPY HOUR DEALS FEATURING SEVERAL LOCAL RESTAURANTS 
 DAILY SPECIALS\n \nCLICK HERE REACH OUR VENUE'S PAGE TO FIND ADDRESS
 ES AND PHONE NUMBERS OF PLACES LISTED\n \nCLICK HERE FOR OUR BAND/DJ 
 PAGE TO FIND DESCRIPTION OF THE BANDS AND LINKS TO THEIR WEB PAGES\n\
 nFor more information visit https://vbnightlife.com/events/click-here-
 for-sunday-7-1-14-virginia-beach-entertainment-listing
DTSTART:20140601T040000Z
DTEND:20140602T035900Z
CATEGORIES:"virginia beach", "virginia beach nightlife", "virginia bea
 ch bands", "virginia beach entertainment"
LOCATION:Virginia Beach, VA
WEBSITE:
URL:
CONTACT:
ORGANIZER;CN="VBnightlife.com":https://vbnightlife.com/profile/admin
ATTACH;FMTTYPE="image/jpeg":http://storage.ning.com/topology/rest/1.0/
 file/get/1664193221?profile=original
ATTENDEE;ROLE=REQ-PARTICIPANT;PARTSTAT=ACCEPTED;RSVP=TRUE;CN="VBnightl
 ife.com":https://vbnightlife.com/profile/admin
END:VEVENT
END:VCALENDAR
