BEGIN:VCALENDAR
PRODID:NingEventWidget-v1
VERSION:2.0
METHOD:PUBLISH
BEGIN:VEVENT
UID:2508951:Event:286831
DTSTAMP:20260420T043236Z
SUMMARY:Click here for SUNDAY 6/8/14 VIRGINIA BEACH ENTERTAINMENT LIST
 INGS
DESCRIPTION:LIVE ENTERTAINMENT/ DJ’S/ KARAOKE: \n\nBoneshakers - NO
 BLEMAN RIDE FOR AUTISM -Ipads for Autism! Registration and Breakfast 
 at Boneshakers from 9-11:00am.  \nMango's Beach Grill - acoustic w/ 
 George Scoffield & Jimmy Williams. 5-9pm\nSouth Beach Grill - Mike Pr
 offitt and Dana Silvercloud 8pm\nTapped Gastropub - Open Mic Night 10p
 m\n\n \nSPECIAL EVENTS/CONCERTS/ FESTIVALS:  \n\nBoneshaker's Sports
 bar - I Ride for iPads - Noblemen Autism Benefit\n7th STREET STAGE - 
 VB \"COOLIN' OUT\" 6-10pm\n17th Street Park - Ray Meeks 8pm\n31st STRE
 ET STAGE - VB \"JUJU & CARIBBEAN STEEL\" 12-4pm + \"KARNIVALE 6-10pm\n
 \nHARBOR FEST - Town Point Park - Norfolk\n\n12:30pm \"AMY GERHARTZ\" 
 - Boathouse Stage\n2:00pm \"THE HENNINGSENS\" - Main Stage\n3:15pm \"S
 PIRIT FAMILY REUNION\" - Boathouse Stage\n4:30pm \"BLACKBERRY SMOKE\" 
 - Main Stage\n\n\nCLICK HERE FOR THE BEST DEALS & COUPONS IN VIRGINIA
  BEACH FEATURING EXCLUSIVE BARGAINS\n \nCLICK HERE FOR HAPPY HOUR DEA
 LS FEATURING SEVERAL LOCAL RESTAURANTS DAILY SPECIALS\n \nCLICK HERE 
 REACH OUR VENUE'S PAGE TO FIND ADDRESSES AND PHONE NUMBERS OF PLACES 
 LISTED\n \nCLICK HERE FOR OUR BAND/DJ PAGE TO FIND DESCRIPTION OF TH
 E BANDS AND LINKS TO THEIR WEB PAGES\n\nFor more information visit htt
 ps://vbnightlife.com/events/click-here-for-sunday-6-8-14-virginia-beac
 h-entertainment-listing
DTSTART:20140608T040000Z
DTEND:20140609T035900Z
CATEGORIES:"virginia beach", "virginia beach nightlife", "virginia bea
 ch bands", "virginia beach entertainment"
LOCATION:Virginia Beach, VA
WEBSITE:
URL:
CONTACT:
ORGANIZER;CN="VBnightlife.com":https://vbnightlife.com/profile/admin
ATTACH;FMTTYPE="image/jpeg":http://storage.ning.com/topology/rest/1.0/
 file/get/1664192310?profile=original
ATTENDEE;ROLE=REQ-PARTICIPANT;PARTSTAT=ACCEPTED;RSVP=TRUE;CN="VBnightl
 ife.com":https://vbnightlife.com/profile/admin
END:VEVENT
END:VCALENDAR
