BEGIN:VCALENDAR
PRODID:NingEventWidget-v1
VERSION:2.0
METHOD:PUBLISH
BEGIN:VEVENT
UID:2508951:Event:195438
DTSTAMP:20260423T051639Z
SUMMARY:Click here for SUNDAY 6/3/12 VIRGINIA BEACH ENTERTAINMENT LIST
 INGS
DESCRIPTION:LIVE ENTERTAINMENT\n5th Street Stage Patriotic Festival: 
 Scotty McCreery\n7th Street Stage- Snackbar Jones, 5-9PM\n17th Street
  Stage- Broke By Sunday, 8PM\n31st Street Stage- Caribbean Steel, 12-4
 PM, The Deloreans, 7-11PM\nBoneshakers- (Patio) Borderline Crazy, 2-6
 PM, Open Mic w/ Karl Werne 7-11PM\nCalypso- Ed Kelleher, 2-6, Natures 
 Child, 6-10PM\nRetro Cafe- Sunday Funday W/DJ NADO\nH20- Brandon Bower
 , 8-11PM\nHavana Nights- Open Jam Sessions (Every Sunday) , Chris Bryd
 ge Trio 8-10PM\nLunasea- Sunday Funday\nMurphys- Brent Shepard, 9PM\nS
 oundcheck- VBNightlife Commercial @ Midnight!\nSouth Beach Grill- Wait
  til Friday\nSurf Club Ocean Grille- Just Cuz, 3-6PM\nSunset Beach Re
 sort Hotel- Rip Chord, 2PM\n\nTHEATRE/FUNDRAISERS/CONCERTS/SPORTS:\nFu
 nny Bone Comedy Club- Clash of the Comics (May8-Jul10), Charlie Murph
 y (May 31- Jun.3)\nLittle Theatre of Virginia Beach- A Bad Year for To
 matoes, 2:30PM, (May18-Jun10), Les Liaisons Dangereuses (May17-June9)\
 nChrysler Hall- Blue Man Group, 1 & 6:30PM\nHarbor Park- Norfolk Tides
  Baseball, 1:15PM\n\nFAMILY FUN/SPECIAL EVENTS:\nWoody McGees - Sunda
 y Funday - Brunch + Bloody Mary Bar 10am - 2pm\nVirginia MOCA- Andy Wa
 rhol\nVirginia Beach Patriotic Festival\nPatriotic Festival: Oceanfron
 t Air Show\nPatriotic Festival: Navy Dive Tank\nPatriotic Festival: Ch
 evy Ride and Drive\nPatriotic Festival: Corvette Museum Racing Tour\nP
 atriotic Festival: JT's Grommet Island\nPatriotic Festival: Scotty McC
 reery\nPatriotic Festival: GM First Responder\nPatriotic Festival: Mon
 ster Beverage\n\nFor more information visit https://vbnightlife.com/ev
 ents/click-here-for-sunday-6-3-12-virginia-beach-entertainment-listing
DTSTART:20120603T040000Z
DTEND:20120604T035900Z
CATEGORIES:"virginia beach entertainment", "virginia beach bands", "vi
 rginia beach nightlife"
LOCATION:Virginia Beach
WEBSITE:
URL:
CONTACT:
ORGANIZER:VBnightlife.com (Dionna Campanella)
ATTACH;FMTTYPE="image/jpeg":http://storage.ning.com/topology/rest/1.0/
 file/get/1664167652?profile=original
ATTENDEE;ROLE=REQ-PARTICIPANT;PARTSTAT=ACCEPTED;RSVP=TRUE;CN="VBnightl
 ife.com":https://vbnightlife.com/profile/admin
END:VEVENT
END:VCALENDAR
