BEGIN:VCALENDAR
PRODID:NingEventWidget-v1
VERSION:2.0
METHOD:PUBLISH
BEGIN:VEVENT
UID:2508951:Event:311300
DTSTAMP:20260425T134659Z
SUMMARY:Click here for SUNDAY 6/28/15 VIRGINIA BEACH EVENT & ENTERTAIN
 MENT LISTINGS
DESCRIPTION:\nSpecial Events\nAdventure Park at the Virginia Aquarium
  - 9am to 5pm - $5 Off General Admission With Promo Code VBLIFE here:
  http://bit.ly/1FhDqIF\nAssociation for Research and Enlightenment (A
 .R.E.) Oceanfront - Click for events calendar\nPaintball -  58% off o
 n www.VBhotdeals.com\nLongshots Billiards & Darts - Chesapeake - Mil
 itary Appreciation Day - Free Pool and drink discounts for the militar
 y\nMuseum of Contemporary Art (MOCA) -  Now on Exhibit\n\nLIVE ENTERT
 AINMENT\n7th Street Stage - Jack Becker 12pm, Butter 6pm\n17th Stree
 t Stage - USAF Full Spectrum 8pm\n24th Street Stage - Tiki Bar Band 
 8pm\n31st Street Stage - Ray Meeks 12pm, Strictly Bizzness 6pm\n34th
  Street Stage - Brandon Bower 12pm, Seth Stainback Duo 6pm\nAbbey Ro
 ad Pub - Bernie Lee 9pm\nBoneshakers - The River Boyz 3 to 7pm on the 
 patio\nCalypso Bar & Grill - Atlantic Ave - Jack Becker 3pm\nChicho's 
 - 29th & Pacific - Steve Forss 6pm\nCocomo Joe's - 31st Street - 
 The Reef 6 to 10pm\nEagles Nest - Hilltop - Live Music 11am to 2pm\n
 Froggie's Cantina By The Bay - Shore Drive - Jacob Vanko Trio and Pi
 g Pickin' 5pm http://vbnightlife.com/events/june-pig-pickin-at-froggi
 es-1\nJerry's Restaurant & Lounge - Chesapeake - NASCAR Get your 1/2 
 price voucher for Food and Drink here: www.VBhotdeals.com\nKeagan's I
 rish Pub - Town Center - Karaoke 9pm\nMurphy's Irish Pub - Natures Ch
 ild 9pm\nRY Lounge - Oceanfront - Sunday Night Heat w/ DJ D Izzy, DJ C
 hino, DJ Emannon\nSouth Beach Grill - Mike Proffitt & Dana Silvercloud
  8pm\nTapped Gastropub- Hilltop - Bebop and Rock Steady on the patio 1
 pm then Exposed Open Mic hosted by A Modern Myth 9pm\nWing King - R
 osemont - COUPON\nWing King - Centerville - COUPON\n \n\nFor more in
 formation visit https://vbnightlife.com/events/click-here-for-sunday-6
 -28-15-virginia-beach-event-entertainment
DTSTART:20150628T040000Z
DTEND:20150629T035900Z
CATEGORIES:"virginia beach", "virginia beach nightlife", easter, "virg
 inia beach bands", "virginia beach entertainment", "events in virginia
  beach", "things to do in virginia beach", "mobile app virginia beach"
LOCATION:Virginia Beach, VA
WEBSITE:
URL:
CONTACT:
ORGANIZER:VBnightlife / VBdaylife
ATTACH;FMTTYPE="image/jpeg":http://storage.ning.com/topology/rest/1.0/
 file/get/1664281657?profile=original
ATTENDEE;ROLE=REQ-PARTICIPANT;PARTSTAT=ACCEPTED;RSVP=TRUE;CN="VBnightl
 ife.com":https://vbnightlife.com/profile/admin
END:VEVENT
END:VCALENDAR
