BEGIN:VCALENDAR
PRODID:NingEventWidget-v1
VERSION:2.0
METHOD:PUBLISH
BEGIN:VEVENT
UID:2508951:Event:195410
DTSTAMP:20260423T002952Z
SUMMARY:Click here for SUNDAY 6/24/12 VIRGINIA BEACH ENTERTAINMENT LIS
 TINGS
DESCRIPTION:LIVE ENTERTAINMENT\n7th Street Stage- Spider Love, 5-9PM\
 n17th Street Park 7:30-9:00pm, Sterling Riggs (Elvis tribute) 9:30-11:
 00pm, Jim Smith (Elvis tribute)\n24th Street Park 7:00-8:30pm, Bargain
  (tribute to The Who) 9:00-11:00pm, ZOSO (Led Zeppelin tribute)\n31st 
 Street Park, Caribbean Steel, 12PM-4PM 7:30-11:00pm, Satisfaction (Rol
 ling Stones tribute)\nBoneshakers- (Patio) Barefoot n Crazy, 2-6PM, Op
 en Mic w/ Karl Werne 7-11PM\nCalypso- Natures Child, 9PM\nRetro Cafe- 
 Sunday Funday W/DJ NADO\nHavana Nights- Open Jam Sessions (Every Sunda
 y) , Chris Brydge Trio 8-10PM\nLunasea- Sunday Funday\nMurphys- Brent 
 Shepard, 9PM\nSoundcheck- VBNightlife Commercial @ Midnight!\nSouth Be
 ach Grill- Camhead & The Noisemakers\nSurf Club Ocean Grille- HM John
 son Band, 3-6PM\nSunset Beach Resort Hotel- Plastic Eddie, 2-5PM\n\nTH
 EATRE/FUNDRAISERS/CONCERTS/SPORTS:\nFunny Bone Comedy Club- \nVerizon
  Wireless Ampitheatre- Rascal Flatts and Little Big Town\n\nFAMILY FUN
 /SPECIAL EVENTS:\nSandstock- A Tribute to Rock N Roll\nCarnival at Mt.
  Trashmore\nWoody McGees - Sunday Funday - Brunch + Bloody Mary Bar 1
 0am - 2pm\nVirginia MOCA- Andy Warhol\n\nDJ’S/KARAOKE/DANCES:\nAJ Ga
 tors (Holland Road)- Texas Hold 'em- 7PM\nKeagans- Karaoke, 9PM\nSecre
 ts- Karaoke w/ El Mike, 8PM-12AM\nWannaB's- KARAOKE 7 PM - 2 AM,Monday
  - Saturday (21 and Older)\nCLICK HERE FOR HAPPY HOUR DEALS\nCLICK HER
 E REACH OUR VENUE'S PAGE \nCLICK HERE FOR OUR BAND/DJ PAGE\n\nFor mor
 e information visit https://vbnightlife.com/events/click-here-for-sund
 ay-6-24-12-virginia-beach-entertainment-listin
DTSTART:20120624T040000Z
DTEND:20120625T035900Z
CATEGORIES:"virginia beach entertainment", "virginia beach bands", "vi
 rginia beach nightlife"
LOCATION:Virginia Beach
WEBSITE:
URL:
CONTACT:
ORGANIZER:VBnightlife.com (Dionna Campanella)
ATTACH;FMTTYPE="image/jpeg":http://storage.ning.com/topology/rest/1.0/
 file/get/1664169095?profile=original
ATTENDEE;ROLE=REQ-PARTICIPANT;PARTSTAT=ACCEPTED;RSVP=TRUE;CN="VBnightl
 ife.com":https://vbnightlife.com/profile/admin
END:VEVENT
END:VCALENDAR
