BEGIN:VCALENDAR
PRODID:NingEventWidget-v1
VERSION:2.0
METHOD:PUBLISH
BEGIN:VEVENT
UID:2508951:Event:195584
DTSTAMP:20260423T032142Z
SUMMARY:Click here for SUNDAY 6/10/12 VIRGINIA BEACH ENTERTAINMENT LIS
 TINGS
DESCRIPTION:LIVE ENTERTAINMENT\n7th Street STage - Rich Whiskey, 5-9P
 M\n31st Street Stage- Tropical Steel, 12-4PM, Borderline Crazy, 7-11PM
 \nBoneshakers - (Patio) Mike DeMoss, 2-6PM, Open Mic w/ Karl Werne 7
 -11PM\nCalypso- Natures Child, 9PM\nChix- Rich Whiskey\nRetro Cafe- Su
 nday Funday W/DJ NADO\nHavana Nights- Open Jam Sessions (Every Sunday)
  , Chris Brydge Trio 8-10PM\nKnuckleheads- Comedy Factory Network, 8PM
 \nMurphys- Brent Shepard, 9PM\nSoundcheck- VBNightlife Commercial @ Mi
 dnight!\nSouth Beach Grill- Mike Proffitt & Dana Silvercliud\nSurf Clu
 b Ocean Grille- Live Entertainment, 3-6PM\nSunset Beach Resort Hotel-
  Red Stapler, 2-6PM\n\nTHEATRE/FUNDRAISERS/CONCERTS/SPORTS:\nFunny Bon
 e Comedy Club- Clash of the Comics\nLittle Theatre of Virginia Beach- 
 A Bad Year for Tomatoes, 8PM, (May18-Jun10)\nFarm Bureau Live- Lady An
 tebellum and Darius Rucker\n\nFAMILY FUN/SPECIAL EVENTS:\nWoody McGees
  - Sunday Funday - Brunch + Bloody Mary Bar 10am - 2pm\nLunasea- Sund
 ay Funday\nOpSail 2012\nCarnival at Mt. Trashmore\nVirginia MOCA- Andy
  Warhol\n\nDJ’S/KARAOKE/DANCES:\nAJ Gators (Holland Road)- Texas Hol
 d 'em- 7PM\nKeagans- Karaoke, 9PM\nSecrets- Karaoke w/ El Mike, 8PM-12
 AM\nWannaB's- KARAOKE 7 PM - 2 AM,Monday - Saturday (21 and Older)\nCL
 ICK HERE FOR HAPPY HOUR DEALS\nCLICK HERE REACH OUR VENUE'S PAGE \nCL
 ICK HERE FOR OUR BAND/DJ PAGE\n\nFor more information visit https://vb
 nightlife.com/events/click-here-for-sunday-6-10-12-virginia-beach-ente
 rtainment-listin
DTSTART:20120610T040000Z
DTEND:20120611T035900Z
CATEGORIES:"virginia beach entertainment", "virginia beach bands", "vi
 rginia beach nightlife"
LOCATION:Virginia Beach
WEBSITE:
URL:
CONTACT:
ORGANIZER:VBnightlife.com (Dionna Campanella)
ATTACH;FMTTYPE="image/jpeg":http://storage.ning.com/topology/rest/1.0/
 file/get/1664169629?profile=original
ATTENDEE;ROLE=REQ-PARTICIPANT;PARTSTAT=ACCEPTED;RSVP=TRUE;CN="VBnightl
 ife.com":https://vbnightlife.com/profile/admin
END:VEVENT
END:VCALENDAR
