BEGIN:VCALENDAR
PRODID:NingEventWidget-v1
VERSION:2.0
METHOD:PUBLISH
BEGIN:VEVENT
UID:2508951:Event:213013
DTSTAMP:20260424T114452Z
SUMMARY:Click here for SUNDAY 4/7/13 VIRGINIA BEACH ENTERTAINMENT LIST
 INGS
DESCRIPTION:LIVE ENTERTAINMENT/ DJ’S/ KARAOKE:\nAberdeen Barn- Bryan
  Dunn 6pm\nBoneshakers Sports Bar and Grill   -Skip Friel Trio 2pm-6
 pm\nIl Giardino's – Reginald Blackwell & 2 for 1 Sunday\nKeagans- Ka
 raoke 9pm\nMurphys- Brent Shepard\nSouth Beach Grill- Mike Proffitt & 
 Dana\n\nSPECIAL EVENTS/CONCERTS/ FESTIVALS:\nVirginia Beach Funny Bone
 -Jon Reep\nVirginia Symphony Up, Up, and Away- Sandler Center\n24th An
 nual NHSCA Natl H.S. Wrestling Championship- Virginia Beach Convention
  Center\nVirginia Stage Company’s The Odd Couple – Wells Theatre\n
 Tidewater Gun & Knife Show- Scope\nBorn Yesterday- Little Theatre of V
 irginia Beach\nWest Moon Street- Little Theatre of Norfolk\nODU Intern
 ational Festival- Ted Constant Center\nGuiding Eyes for the Blind Wine
  Tasting- Total Wine\n \nCLICK HERE FOR HAPPY HOUR DEALS FEATURING SE
 VERAL LOCAL RESTAURANTS DAILY SPECIALS\n \nCLICK HERE REACH OUR VENUE
 'S PAGE TO FIND ADDRESSES AND PHONE NUMBERS OF PLACES LISTED\n \nCLI
 CK HERE FOR OUR BAND/DJ PAGE TO FIND DESCRIPTION OF THE BANDS AND LIN
 KS TO THEIR WEB PAGES\n\nFor more information visit https://vbnightlif
 e.com/events/click-here-for-sunday-4-7-13-virginia-beach-entertainment
 -listing
DTSTART:20130407T040000Z
DTEND:20130408T035900Z
CATEGORIES:"virginia beach", "virginia beach nightlife", "virginia bea
 ch bands"
LOCATION:Virginia Beach, VA
WEBSITE:
URL:
CONTACT:
ORGANIZER;CN="VBnightlife.com":https://vbnightlife.com/profile/admin
ATTACH;FMTTYPE="image/jpeg":http://storage.ning.com/topology/rest/1.0/
 file/get/1664188581?profile=original
ATTENDEE;ROLE=REQ-PARTICIPANT;PARTSTAT=ACCEPTED;RSVP=TRUE;CN="VBnightl
 ife.com":https://vbnightlife.com/profile/admin
END:VEVENT
END:VCALENDAR
