BEGIN:VCALENDAR
PRODID:NingEventWidget-v1
VERSION:2.0
METHOD:PUBLISH
BEGIN:VEVENT
UID:2508951:Event:334836
DTSTAMP:20260422T065405Z
SUMMARY:Click here for SUNDAY 4/3/16 VIRGINIA BEACH EVENT & ENTERTAINM
 ENT LISTINGS
DESCRIPTION:Special Events\nBenefit for Officer Nick Johnson at Eagles
  Nest 12pm http://vbnightlife.com/events/benefit-for-officer-nick-joh
 nson\nLongshots Billiards & Darts - Chesapeake - Military Appreciatio
 n Day - Free Pool and drink discounts for the military\nMuseum of Cont
 emporary Art (MOCA) - Now on Exhibit\nSandler Center - Virginia Symph
 ony Orchestra: Mahler 5 2:30p\n\nLIVE ENTERTAINMENT\nBella Monte Resta
 urant & Enoteca - 1201 Laskin Rd - Happy Hour at the bar 4 to 6 dai
 ly\nBoneshakers - Live Music 3 to 7p on the patio\nEagles Nest - Hill
 top - Benefit for Officer Nick Johnson 12pm http://vbnightlife.com/ev
 ents/benefit-for-officer-nick-johnson\nFroggie's Cantina By The Bay -
  Shore Drive - Tiki Bar Band 5p\nJerry's Restaurant & Lounge - Chesape
 ake - Cycle Sunday's w/ Runnin' Shine Acoustic 3-7pm SAVE 50% ON FOO
 D AND DRINK WITH THIS COUPON\nKeagan's Irish Pub - Town Center - Karao
 ke 9p\nRY Lounge - Oceanfront - Sunday Night Heat w/ DJ D Izzy, DJ Chi
 no, DJ Emannon\nSouth Beach Grill - Karma Kings 7p\nTapped Gastropub- 
 Hilltop - Happy Hour \nTradewinds - Eddie Sal 5p\nTubby's Tavern - Op
 en Mic 10pm\nWing King - Rosemont -  COUPON \nWing King - Centervill
 e -  COUPON\nWoody McGees - Holland Rd- Sunday Funday with Happy Hour
  All Day Long\n\n\nFor more information visit https://vbnightlife.com/
 events/click-here-for-sunday-4-3-16-virginia-beach-event-entertainment
 -l
DTSTART:20160403T040000Z
DTEND:20160404T035900Z
CATEGORIES:"virginia beach", "virginia beach nightlife", "virginia bea
 ch bands", "virginia beach entertainment", "events in virginia beach",
  "things to do in virginia beach", "mobile app virginia beach"
LOCATION:Virginia Beach, VA
WEBSITE:
URL:
CONTACT:
ORGANIZER:VBnightlife / VBdaylife
ATTACH;FMTTYPE="image/jpeg":http://storage.ning.com/topology/rest/1.0/
 file/get/1664305022?profile=original
ATTENDEE;ROLE=REQ-PARTICIPANT;PARTSTAT=ACCEPTED;RSVP=TRUE;CN="VBnightl
 ife.com":https://vbnightlife.com/profile/admin
END:VEVENT
END:VCALENDAR
