BEGIN:VCALENDAR
PRODID:NingEventWidget-v1
VERSION:2.0
METHOD:PUBLISH
BEGIN:VEVENT
UID:2508951:Event:336085
DTSTAMP:20260424T202526Z
SUMMARY:Click here for SUNDAY 4/24/16 VIRGINIA BEACH EVENT & ENTERTAIN
 MENT LISTINGS
DESCRIPTION:Special Events\nLongshots Billiards & Darts - Chesapeake 
 - Military Appreciation Day - Free Pool and drink discounts for the mi
 litary\nMuseum of Contemporary Art (MOCA) - Now on Exhibit\nSandler C
 enter - Virginia Musical Theatre: Nice Work If You Can Get It 2:30p\n\
 nLIVE ENTERTAINMENT\nBella Monte Restaurant & Enoteca - 1201 Laskin 
 Rd - Happy Hour at the bar 4 to 6 daily\nBoneshakers -  3 to 7p on t
 he patio\nChicho's - Strawbridge -\nChix Sea Grille -\nEagles Nest - 
 Hilltop - \nFroggie's Cantina By The Bay - Shore Drive - Campbell St
 evens Project 5p\nGrumpy's - Kempsville - \nJerry's Restaurant & Loun
 ge - Chesapeake - NASCAR Sunday Funday - 3:30p\nKeagan's Irish Pub - T
 own Center - Karaoke 9p\nRY Lounge - Oceanfront - Sunday Night Heat w/
  DJ D Izzy, DJ Chino, DJ Emannon\nShaka's -\nSouth Beach Grill - 7p\nT
 apped Gastropub- Hilltop - Happy Hour\nTradewinds -  5p\nTubby's Tave
 rn - Game Night @7pm with Game of Thrones\nWing King - Rosemont -  CO
 UPON\nWing King - Centerville -  COUPON\nWoody McGees - Holland Rd- S
 unday Funday with Happy Hour All Day Long\n\n\nFor more information vi
 sit https://vbnightlife.com/events/click-here-for-sunday-4-24-16-virgi
 nia-beach-event-entertainment-
DTSTART:20160424T040000Z
DTEND:20160425T035900Z
CATEGORIES:"virginia beach", "virginia beach nightlife", "virginia bea
 ch bands", "virginia beach entertainment", "events in virginia beach",
  "things to do in virginia beach", "mobile app virginia beach"
LOCATION:Virginia Beach, VA
WEBSITE:
URL:
CONTACT:
ORGANIZER:VBnightlife / VBdaylife
ATTACH;FMTTYPE="image/jpeg":http://storage.ning.com/topology/rest/1.0/
 file/get/1664307737?profile=original
ATTENDEE;ROLE=REQ-PARTICIPANT;PARTSTAT=ACCEPTED;RSVP=TRUE;CN="VBnightl
 ife.com":https://vbnightlife.com/profile/admin
END:VEVENT
END:VCALENDAR
