BEGIN:VCALENDAR
PRODID:NingEventWidget-v1
VERSION:2.0
METHOD:PUBLISH
BEGIN:VEVENT
UID:2508951:Event:335969
DTSTAMP:20260420T035325Z
SUMMARY:Click here for SUNDAY 4/10/16 VIRGINIA BEACH EVENT & ENTERTAIN
 MENT LISTINGS
DESCRIPTION:Special Events\nLongshots Billiards & Darts - Chesapeake 
 - Military Appreciation Day - Free Pool and drink discounts for the mi
 litary\nMuseum of Contemporary Art (MOCA) - Now on Exhibit\nSandler C
 enter - Symphonicity: Russian Treasures 3p\nCrush 'n Country (CrushFes
 t) - Holiday Trav-L Park - Noon to 6pm - Waterloo Revival, Honky Tonk 
 Heroes, DJ Aegty, Kevin Mac, Cheap Thrills, Cody Austin Band\n\n\nLIVE
  ENTERTAINMENT\nBella Monte Restaurant & Enoteca - 1201 Laskin Rd -
  Happy Hour at the bar 4 to 6 daily\nBoneshakers - River Boyz trio 3 t
 o 7p on the patio\nChicho's - Strawbridge -\nChix Sea Grille - Snackba
 r Jones\nEagles Nest - Hilltop - Relay for Life Benefit Concert with 
 Ell Oh Ell, Twisted Branches & Rellen 3p to 10p\nFroggie's Cantina By 
 The Bay - Shore Drive - Until Dawn 5p\nGrumpy's - Kempsville - Benefi
 t 1p\nJerry's Restaurant & Lounge - Chesapeake - NASCAR Sunday Funday 
 - Snack Pack 3:30p\nKeagan's Irish Pub - Town Center - Karaoke 9p\nRY 
 Lounge - Oceanfront - Sunday Night Heat w/ DJ D Izzy, DJ Chino, DJ Ema
 nnon\nShaka's - Academy of Rock Music All Ages Show 3p & Camp Lo 9p\nS
 outh Beach Grill - Mike Proffitt & Dana Silvercloud 7p\nTapped Gastrop
 ub- Hilltop - Happy Hour\nTradewinds -  5p\nTubby's Tavern - Open Mic
  10pm\nWing King - Rosemont -  COUPON\nWing King - Centerville -  CO
 UPON\nWoody McGees - Holland Rd- Sunday Funday with Happy Hour All Day
  Long\n\n\nFor more information visit https://vbnightlife.com/events/c
 lick-here-for-sunday-4-10-16-virginia-beach-event-entertainment-
DTSTART:20160410T040000Z
DTEND:20160411T035900Z
CATEGORIES:"virginia beach", "virginia beach nightlife", "virginia bea
 ch bands", "virginia beach entertainment", "events in virginia beach",
  "things to do in virginia beach", "mobile app virginia beach"
LOCATION:Virginia Beach, VA
WEBSITE:
URL:
CONTACT:
ORGANIZER:VBnightlife / VBdaylife
ATTACH;FMTTYPE="image/jpeg":http://storage.ning.com/topology/rest/1.0/
 file/get/1664306637?profile=original
ATTENDEE;ROLE=REQ-PARTICIPANT;PARTSTAT=ACCEPTED;RSVP=TRUE;CN="VBnightl
 ife.com":https://vbnightlife.com/profile/admin
END:VEVENT
END:VCALENDAR
