BEGIN:VCALENDAR
PRODID:NingEventWidget-v1
VERSION:2.0
METHOD:PUBLISH
BEGIN:VEVENT
UID:2508951:Event:334203
DTSTAMP:20260422T145425Z
SUMMARY:Click here for SUNDAY 3/6/16 VIRGINIA BEACH EVENT & ENTERTAINM
 ENT LISTINGS
DESCRIPTION:\nSpecial Events\nLongshots Billiards & Darts - Chesapeak
 e - Military Appreciation Day - Free Pool and drink discounts for the 
 military\nMuseum of Contemporary Art (MOCA) - Now on Exhibit\nSandler
  Center - Virginia Musical Theatre - Mame 2:30p (March 4 - 6) \n\nLIV
 E ENTERTAINMENT\nBella Monte Restaurant & Enoteca - 1201 Laskin Rd 
 - Happy Hour at the bar 4 to 6 daily\nBoneshakers - Robby T (from Butt
 er) 3 to 7p on the patio\nChicho's - Strawbridge -\nFroggie's Cantina 
 By The Bay - Shore Drive - Brian Grilli 4p  \nJerry's Restaurant & L
 ounge - Chesapeake - NASCAR & Sunday Funday\nKeagan's Irish Pub - Town
  Center - Karaoke 9p\nRY Lounge - Oceanfront - Sunday Night Heat w/ DJ
  D Izzy, DJ Chino, DJ Emannon\nSouth Beach Grill - Mike Proffitt & Dan
 a Silvercloud 7p\nTapped Gastropub- Hilltop - on the patio 1pm then O
 pen Mic hosted by A Modern Myth 9p\nTradewinds - Karl Werne 5p\nTubb
 y's Tavern - Open Mic 10pm\nWing King - Rosemont -  COUPON\nWing King
  - Centerville -  COUPON\nWoody McGees - Holland Rd- Sunday Funday wi
 th Happy Hour\n\nFor more information visit https://vbnightlife.com/ev
 ents/click-here-for-sunday-3-6-16-virginia-beach-event-entertainment-l
DTSTART:20160306T050000Z
DTEND:20160307T045900Z
CATEGORIES:"virginia beach", "virginia beach nightlife", "virginia bea
 ch bands", "virginia beach entertainment", "events in virginia beach",
  "things to do in virginia beach", "mobile app virginia beach"
LOCATION:Virginia Beach, VA
WEBSITE:
URL:
CONTACT:
ORGANIZER:VBnightlife / VBdaylife
ATTACH;FMTTYPE="image/jpeg":http://storage.ning.com/topology/rest/1.0/
 file/get/1664304255?profile=original
ATTENDEE;ROLE=REQ-PARTICIPANT;PARTSTAT=ACCEPTED;RSVP=TRUE;CN="VBnightl
 ife.com":https://vbnightlife.com/profile/admin
END:VEVENT
END:VCALENDAR
