BEGIN:VCALENDAR
PRODID:NingEventWidget-v1
VERSION:2.0
METHOD:PUBLISH
BEGIN:VEVENT
UID:2508951:Event:211901
DTSTAMP:20260421T031537Z
SUMMARY:Click here for SUNDAY 3/3/13 VIRGINIA BEACH ENTERTAINMENT LIST
 INGS
DESCRIPTION:LIVE ENTERTAINMENT/ DJâ€™S/ KARAOKE:\nAberdeen Barn- Bryan
  Dunn\nBoneshakers Sports Bar and GrillÂ  Â Yogi & The Dynamic Duo 2pm
 -6pmÂ \nIl Giardino's â€“ Reginald Blackwell & 2 for 1 Sunday\nJewish 
 Mother Hilltop-Music Makers Rock Show 5pm\nKeagans- Karaoke\nThe Loung
 e Bar- Laugh Out Lounge\nMurphys-BrentÂ  Shepard\nSouth Beach Grill â€
 “Mike Proffitt 8pm-12am\nSwell- Jack Becker 6:30-9:30\n\nÂ \nSPECIAL E
 VENTS/CONCERTS/ FESTIVALS:\nVirginia Beach Funny Bone- Jay Phillips\nO
 liver- Sandler Center\nVirginia DECA State Leadership Conference- Virg
 inia Beach Convention Center\nMid Atlantic Home & Garden Show- Virgini
 a Beach Convention Center\nVirginia Stage Companyâ€™s: The Whipping Ma
 n- Wells Theatre\nHarlem Globetrotters- Ted Constant Center\nRegent Un
 iversity Theatre Presents: Every Women- Studio Theatre- 2:30pm\nÂ \nCL
 ICK HERE FOR HAPPY HOUR DEALS FEATURING SEVERAL LOCAL RESTAURANTS DAIL
 Y SPECIALS\nÂ \nCLICK HERE REACH OUR VENUE'S PAGEÂ TO FIND ADDRESSES A
 ND PHONE NUMBERS OF PLACES LISTED\nÂ \nCLICK HERE FOR OUR BAND/DJ PAGE
 Â TO FIND DESCRIPTION OF THE BANDS AND LINKS TO THEIR WEB PAGES\n\nFor
  more information visit https://vbnightlife.com/events/click-here-for-
 sunday-3-3-13-virginia-beach-entertainment-listing
DTSTART:20130303T050000Z
DTEND:20130304T045900Z
CATEGORIES:"virginia beach", "virginia beach nightlife", "virginia bea
 ch bands"
LOCATION:Virginia Beach, VA
WEBSITE:
URL:
CONTACT:
ORGANIZER;CN="VBnightlife.com":https://vbnightlife.com/profile/admin
ATTACH;FMTTYPE="image/jpeg":http://storage.ning.com/topology/rest/1.0/
 file/get/1664185161?profile=original
ATTENDEE;ROLE=REQ-PARTICIPANT;PARTSTAT=ACCEPTED;RSVP=TRUE;CN="VBnightl
 ife.com":https://vbnightlife.com/profile/admin
END:VEVENT
END:VCALENDAR
