BEGIN:VCALENDAR
PRODID:NingEventWidget-v1
VERSION:2.0
METHOD:PUBLISH
BEGIN:VEVENT
UID:2508951:Event:277811
DTSTAMP:20260422T091538Z
SUMMARY:Click here for SUNDAY 3/2/13 VIRGINIA BEACH ENTERTAINMENT LIST
 INGS
DESCRIPTION:\nWe have compiled this list of events for your convenienc
 e\nFor Locals, By Locals\n If you know of an event, fundraiser, band o
 r establishment that is not listed here, we want to know! Â  Click her
 e to give us your feedback and suggestions: http://fs30.formsite.com/v
 bnightlife/form2/index.html\nÂ \nLIVE ENTERTAINMENT/ DJâ€™S/ KARAOKE:Â
  Â \nÂ \nBoneshakers Sports Bar and Grill-Â Grant Austin Taylor 3pm-7p
 m\nHarry Oâ€™s- Karaoke 9pm-close\nSouth Beach Grill-Â Falsom\nTapped-
 Open Mic with Jon and Justin\nÂ 10 pmÂ  - 12 am\nCentral 111- DJ\nSamm
 yâ€™s Restaurant-DJ 9:30 pm\nKeaganâ€™s Irish Pub- Karaoke\nJewish Mot
 her- Momâ€™s Beach, Boogie, and Blues w/DJâ€™s Jerry Canada and Cindy 
 Black\n5pm\nTapped Gastropub-Â Open MicÂ 10pm\nÂ \nÂ \nSPECIAL EVENTS/
 CONCERTS/ FESTIVALS:\nThe Sandler Center- Children of Eden 2pm\nGuy To
 rry- Virginia Beach Funny Bone\nVirginia Museum Of Contemporary Art- 2
 014 Hampton Roads Youth Poetry Slam Season And Festival-3-5pm\nÂ \nPle
 ase note thatÂ bookings can change at the last minute. Â If times are 
 notÂ available, we recommend checking with the venue before heading ou
 t!Â \nÂ \nCLICK HERE FOR THE BEST DEALS & COUPONSÂ IN VIRGINIA BEACH F
 EATURING EXCLUSIVE BARGAINS\nÂ \nCLICK HERE FOR HAPPY HOUR DEALSFEATUR
 ING SEVERAL LOCAL RESTAURANTS DAILY SPECIALS\nÂ \nCLICK HERE REACH OUR
  VENUE'S PAGEÂ TO FIND ADDRESSES AND PHONE NUMBERS OF PLACES LISTED\nÂ
  \nCLICK HERE FOR OUR BAND/DJ PAGEÂ TO FIND DESCRIPTION OF THE BANDS A
 ND LINKS TO THEIR WEB PAGES\n\nFor more information visit https://vbni
 ghtlife.com/events/click-here-for-sunday-3-2-13-virginia-beach-enterta
 inment-listing
DTSTART:20140302T050000Z
DTEND:20140303T045900Z
CATEGORIES:"virginia beach", "virginia beach nightlife", "virginia bea
 ch bands"
LOCATION:Virginia Beach, VA
WEBSITE:
URL:
CONTACT:
ORGANIZER;CN="VBnightlife.com":https://vbnightlife.com/profile/admin
ATTACH;FMTTYPE="image/jpeg":http://storage.ning.com/topology/rest/1.0/
 file/get/1664187689?profile=original
ATTENDEE;ROLE=REQ-PARTICIPANT;PARTSTAT=ACCEPTED;RSVP=TRUE;CN="VBnightl
 ife.com":https://vbnightlife.com/profile/admin
ATTENDEE;ROLE=REQ-PARTICIPANT;PARTSTAT=ACCEPTED;RSVP=TRUE;CN="Dr. Bree
 \"":https://vbnightlife.com/profile/BrennecaBreeWiley
END:VEVENT
END:VCALENDAR
