BEGIN:VCALENDAR
PRODID:NingEventWidget-v1
VERSION:2.0
METHOD:PUBLISH
BEGIN:VEVENT
UID:2508951:Event:187477
DTSTAMP:20260421T041128Z
SUMMARY:Click here for SUPERBOWL SUNDAY 2/5/12 VIRGINIA BEACH ENTERTAI
 NMENT LISTINGS
DESCRIPTION:ENTERTAINMENT\n11th Street Taphouse- Superbowl  \nBaker S
 treet- Superbowl Party\nBoneshakers - Superbowl Party\nBurger Bar - J
 ack becker 2-5 PRE GAME PARTY\nCalypso- Superbowl  \nChicks Oyster Ba
 r - VIRGINIA GENTLEMEN SUPERBOWL PARTY AND FUNDRAISER AT CHICKS OYSTE
 R BAR\nHavana Nights- Open Mic w/ House Jazz Band, 8-10PM\nHK on the B
 ay- Superbowl Sunday Event\nIL Giardino-Superbowl Party\nKeagan's - Su
 perbowl then Karaoke  \nMurphys- Superbowl then Brent Shepard AFTER T
 HE GAME! \nRetro Cafe- Superbowl Party\nScandals Superbowl Party\nSou
 th Beach Grill - Superbowl Party\n \nTHEATRE/FUNDRAISERS/CONCERTS/SPO
 RTS:\nFunny Bone Comedy Club - Dan Cummins\nWells Theatre- Black Pearl
  Sings\nHarrison Opera House- Orphee\nLittle Theatre of Virginia Beach
 - Getting Away with Murder (through February 5th)\n \nFAMILY FUN/SPEC
 IAL EVENTS\nMOCA (Contemporary Arts Center)- Steve Songs, 3PM\nCLICK H
 ERE REACH OUR VENUE'S PAGE\nCLICK HERE FOR OUR BAND/DJ PAGE\nBookings 
 can change at the last minute, so we recommend checking with the venue
  before heading out!\n\n\nFor more information visit https://vbnightli
 fe.com/events/click-here-for-sunday-2-5-12-virginia-beach-entertainmen
 t-listing
DTSTART:20120205T050000Z
DTEND:20120206T045900Z
CATEGORIES:"virginia beach", "virginia beach entertainment", "virginia
  beach bands", "virginia beach nightlife"
LOCATION:Virginia Beach
WEBSITE:
URL:
CONTACT:
ORGANIZER;CN="VBnightlife.com":https://vbnightlife.com/profile/admin
ATTACH;FMTTYPE="image/jpeg":http://storage.ning.com/topology/rest/1.0/
 file/get/1664160267?profile=original
ATTENDEE;ROLE=REQ-PARTICIPANT;PARTSTAT=ACCEPTED;RSVP=TRUE;CN="VBnightl
 ife.com":https://vbnightlife.com/profile/admin
END:VEVENT
END:VCALENDAR
