BEGIN:VCALENDAR
PRODID:NingEventWidget-v1
VERSION:2.0
METHOD:PUBLISH
BEGIN:VEVENT
UID:2508951:Event:189727
DTSTAMP:20260423T083151Z
SUMMARY:Click here for SUNDAY 2/26/12 VIRGINIA BEACH ENTERTAINMENT LIS
 TINGS
DESCRIPTION:ENTERTAINMENT\n11th Street Taphouse- Sunday FUNDAY- 12PM-3
 PM\nBoneshakers- Open Mic w/ The Rythm Pigs (2-6 on Patio)\nHavana Nig
 hts- Joe Locke w/ John Toomey Trio, 8 & 10PM\nIL Giardino-2 for 1 Entr
 ees!\nKeagan's - Karaoke 9pm\nMurphys- Brent Shepard, 9PM\nShakas- Dow
 n and Dirty Fest 2012 w/Invaluable, Freedom Hawk, Applaud the Impaler 
 & special guests\nSouth Beach -Marty Kartwell\n  \nTHEATRE/FUNDRAISER
 S/CONCERTS/SPORTS:\nFunny Bone Comedy Club - Clash of the Comics- Mar.
  13th\nChrysler Hall- Mr. Marmalade, 2:30\nTeens with a Purpose Benefi
 t Concert\nWells Theatre- Death of a Salesman\nScope- SharX, 2PM\n\n 
 \nDJ’S/KARAOKE/DANCES:\nAJ Gators (Holland Road)- Texas Hold 'em- 7P
 M\nRetro Cafe- Karaoke\nChicho’s 29th - *KARAOKE\nNats- Open Mic Nig
 ht\nPoppa’s Pub - *KARAOKE* 9:30PM\nJewish Mother- MOMS KARAOKE 8pm\
 nWannaB's- KARAOKE 7 PM - 2 AM  Monday - Saturday (21 and Older)\n\nC
 LICK HERE FOR HAPPY HOUR DEALS\nCLICK HERE REACH OUR VENUE'S PAGE \nC
 LICK HERE FOR OUR BAND/DJ PAGE\nBookings can change at the last minute
 , so we recommend checking with the venue before heading out!\n\n\nFor
  more information visit https://vbnightlife.com/events/click-here-for-
 sunday-2-26-12-virginia-beach-entertainment-listin
DTSTART:20120226T050000Z
DTEND:20120227T045900Z
CATEGORIES:"virginia beach entertainment", "virginia beach bands", "vi
 rginia beach nightlife"
LOCATION:Virginia Beach
WEBSITE:
URL:
CONTACT:
ORGANIZER;CN="VBnightlife.com":https://vbnightlife.com/profile/admin
ATTACH;FMTTYPE="image/jpeg":http://storage.ning.com/topology/rest/1.0/
 file/get/1664163285?profile=original
ATTENDEE;ROLE=REQ-PARTICIPANT;PARTSTAT=ACCEPTED;RSVP=TRUE;CN="VBnightl
 ife.com":https://vbnightlife.com/profile/admin
END:VEVENT
END:VCALENDAR
