BEGIN:VCALENDAR
PRODID:NingEventWidget-v1
VERSION:2.0
METHOD:PUBLISH
BEGIN:VEVENT
UID:2508951:Event:188015
DTSTAMP:20260423T083151Z
SUMMARY:Click here for SUNDAY 2/19/12 VIRGINIA BEACH ENTERTAINMENT LIS
 TINGS
DESCRIPTION:ENTERTAINMENT\n11th Street Taphouse- Sunday FUNDAY- 12PM-3
 PM\nBoneshakers - Open Mic w/Â The Ryhtm Pigs 7pm\nHavana Nights- Open
  Mic w/ House Jazz Band, 8-10PM\nIL Giardino-2 for 1 Entrees!\nJewish 
 Mother- Jim Smith's Elvis & the Ladies\nKeagan's - Karaoke 9pm\nMurphy
 s- Brent Shepard, 9PM\nNat's- Open Mic Night w/ Jonathan Friedman Â 9:
 30 to 12:30\nShakas- The Eleventh Hour\nSouth Beach -Shawn Owen 8pm\nÂ
  \nTHEATRE/FUNDRAISERS/CONCERTS/SPORTS:\nDoodah's Day A Celebration of
  Life Remembering Don Womack\nFunny Bone Comedy Club - Tracy Morgan, C
 lash of the Comics- Mar. 13th\nAttucks Theatre- Attucks Theatre Honors
 \nChrysler Hall- Mr. Marmalade, 2:30\nHoliday Inn- Mardi Gras Masquera
 de Ball\nHaygood Roller Skating- Cheap Skate Night\nScope- Norfolk Sha
 rX, 2PM\nSandler Center- Symphoncity presents Bruckner and Respighi\nV
 irginia Beach Convention Center - VOW Bride Bridal Event\nÂ \nDJâ€™S/K
 ARAOKE/DANCES:\nAJ Gators (Holland Road)- Texas Hold 'em- 7PM\nBonesha
 kers- Open Mic w/ The Rythm Pigs (2-6 on Patio)\nRetro Cafe- Karaoke\n
 Chichoâ€™s 29th - *KARAOKE\nPoppaâ€™s Pub - *KARAOKE* 9:30PM\nJewish M
 other- MOMS KARAOKE 8pm\nWannaB's- KARAOKE 7 PM - 2 AMÂ  Monday - Satu
 rday (21 and Older)\nCLICK HERE FOR HAPPY HOUR DEALS\nCLICK HERE REACH
  OUR VENUE'S PAGEÂ \nCLICK HERE FOR OUR BAND/DJ PAGE\n\nFor more infor
 mation visit https://vbnightlife.com/events/click-here-for-sunday-2-19
 -12-virginia-beach-entertainment-listin
DTSTART:20120219T050000Z
DTEND:20120220T045900Z
CATEGORIES:"virgina beach entertainment", "virginia beach nightlife", 
 "virginia beach bands"
LOCATION:Virginia Beach
WEBSITE:
URL:
CONTACT:
ORGANIZER;CN="VBnightlife.com":https://vbnightlife.com/profile/admin
ATTACH;FMTTYPE="image/jpeg":http://storage.ning.com/topology/rest/1.0/
 file/get/1664159488?profile=original
ATTENDEE;ROLE=REQ-PARTICIPANT;PARTSTAT=ACCEPTED;RSVP=TRUE;CN="VBnightl
 ife.com":https://vbnightlife.com/profile/admin
END:VEVENT
END:VCALENDAR
