BEGIN:VCALENDAR
PRODID:NingEventWidget-v1
VERSION:2.0
METHOD:PUBLISH
BEGIN:VEVENT
UID:2508951:Event:210952
DTSTAMP:20260420T091311Z
SUMMARY:Click here for SUNDAY 2/17/13 VIRGINIA BEACH ENTERTAINMENT LIS
 TINGS
DESCRIPTION:LIVE ENTERTAINMENT/ DJ’S/ KARAOKE:\nAberdeen Barn- Bryan
  Dunn\nBoneshakers Sports Bar and Grill  -Kevin Mac 2pm-6pm & Open Mi
 c W/ Karl Werne\nGuadalajara Town Center- Guads After Dark ft. DJ Jon 
 VA757\nIl Giardino's  - 2 for 1 Entrees  Ft. Reginald Blackwell\nMur
 phys- Brent Shepard\nPortside Inn- Karaoke\nSouth Beach Grill- M & M\n
  \nSPECIAL EVENTS/CONCERTS/ FESTIVALS:\nVirginia Symphony’s Terranc
 e Plays Beethoven- Sandler Center\nExcalibur Cup Gymnastics- Virginia 
 Beach Convention Center\nVirginia Beach Coin Show- Virginia Beach Conv
 ention Center\nSoutheastern Guns & Knives Show- Virginia Beach Convent
 ion Center\nHoodoo Love- Generic Theatre\nWinter Jam- Scope\nMitch Fat
 el- - Virginia Beach Funny Bone\nHEARTS ON FIRE FUNDRAISER FOR VANGUAR
 D LANDING – Cavalier Golf & Yacht Club\nDrag Yourself to Brunch- Cro
 cs 19th St.\nPerfect Night Out Dinner & Dancing- Founders Inn\n4th Ann
 ual Strolling Supper- Norfolk Waterside Marriott\nSounds & Rhythms- MO
 CA\nVirginia Ballet Theatre Sweetheart Concert Series- Benjack Studio\
 n \nCLICK HERE FOR HAPPY HOUR DEALS FEATURING SEVERAL LOCAL RESTAURAN
 TS DAILY SPECIALS\n \nCLICK HERE REACH OUR VENUE'S PAGE TO FIND ADDR
 ESSES AND PHONE NUMBERS OF PLACES LISTED\n \nCLICK HERE FOR OUR BAND/
 DJ PAGE TO FIND DESCRIPTION OF THE BANDS AND LINKS TO THEIR WEB PAGES
 \n\nFor more information visit https://vbnightlife.com/events/click-he
 re-for-sunday-2-17-13-virginia-beach-entertainment-listin
DTSTART:20130217T050000Z
DTEND:20130218T045900Z
CATEGORIES:"virginia beach", "virginia beach nightlife", "virginia bea
 ch bands"
LOCATION:Virginia Beach, VA
WEBSITE:
URL:
CONTACT:
ORGANIZER;CN="VBnightlife.com":https://vbnightlife.com/profile/admin
ATTACH;FMTTYPE="image/jpeg":http://storage.ning.com/topology/rest/1.0/
 file/get/1664185217?profile=original
ATTENDEE;ROLE=REQ-PARTICIPANT;PARTSTAT=ACCEPTED;RSVP=TRUE;CN="VBnightl
 ife.com":https://vbnightlife.com/profile/admin
END:VEVENT
END:VCALENDAR
