BEGIN:VCALENDAR
PRODID:NingEventWidget-v1
VERSION:2.0
METHOD:PUBLISH
BEGIN:VEVENT
UID:2508951:Event:188343
DTSTAMP:20260422T073820Z
SUMMARY:Click here for SUNDAY 2/12/12 VIRGINIA BEACH ENTERTAINMENT LIS
 TING
DESCRIPTION:ENTERTAINMENT\n11th Street Taphouse- Sunday FUNDAY- 12PM-3
 PM\nHavana Nights- Open Mic w/ House Jazz Band, 8-10PM\nIL Giardino-2 
 for 1 Entrees!\nJewish Mother- Voodoo Glow Skulls & Authority Zero\nKe
 agan's - Karaoke 9pm\nMurphys- Brent Shepard, 9PM\nSouth Beach Grill -
 Mike Proffitt & Dana Silvercloud\n\nTHEATRE/FUNDRAISERS/CONCERTS/SPORT
 S:\nVirginia Beach Convention Center- Mid Atlantic Sports and Boat Sho
 w, 10-5PM ($8 admission kids 12 and under free)\nFunny Bone Comedy Clu
 b - Guy Torry\nAttucks Theatre- Attucks Theatre Honors\nChrysler Hall-
  Mr. Marmalade\n\nDJ’S/KARAOKE/DANCES:\nAJ Gators (Holland Road)- Te
 xas Hold 'em- 7PM\nRetro Cafe- Karaoke\nChicho’s 29th - *KARAOKE\nPo
 ppa’s Pub - *KARAOKE* 9:30PM\nJewish Mother- MOMS KARAOKE 8pm\nWanna
 B's- KARAOKE 7 PM - 2 AM  Monday - Saturday (21 and Older)\n\nCLICK H
 ERE FOR HAPPY HOUR DEALS\nCLICK HERE REACH OUR VENUE'S PAGE \nCLICK H
 ERE FOR OUR BAND/DJ PAGE\nBookings can change at the last minute, so w
 e recommend checking with the venue before heading out!\n\n\n\nFor mor
 e information visit https://vbnightlife.com/events/click-here-for-sund
 ay-2-12-12-virginia-beach-entertainment-listin
DTSTART:20120212T050000Z
DTEND:20120213T045900Z
CATEGORIES:"virginia beach entertainment", "virginia beach nightlife"
LOCATION:Virginia Beach
WEBSITE:
URL:
CONTACT:
ORGANIZER;CN="VBnightlife.com":https://vbnightlife.com/profile/admin
ATTACH;FMTTYPE="image/jpeg":http://storage.ning.com/topology/rest/1.0/
 file/get/1664160618?profile=original
ATTENDEE;ROLE=REQ-PARTICIPANT;PARTSTAT=ACCEPTED;RSVP=TRUE;CN="VBnightl
 ife.com":https://vbnightlife.com/profile/admin
END:VEVENT
END:VCALENDAR
