BEGIN:VCALENDAR
PRODID:NingEventWidget-v1
VERSION:2.0
METHOD:PUBLISH
BEGIN:VEVENT
UID:2508951:Event:208325
DTSTAMP:20260424T033309Z
SUMMARY:Click here for SUNDAY 12/9/12 VIRGINIA BEACH ENTERTAINMENT LIS
 TINGS
DESCRIPTION:LIVE ENTERTAINMENT/ DJ’S/ KARAOKE:\nCentral 111- DJ\nIl 
 Giardino's – Reginald Blackwell plus 2 for one Entrees\nKeagans- Kar
 aoke\nMurphys- Brent Shapard\nPortside Inn-Karaoke\nSeaside Raw Bar - 
 Karaoke 9pm\nSouth Beach Grill-Joe Heilman\n \n \nSPECIAL EVENTS/CON
 CERTS/ FESTIVALS:\nThe Nutcracker- Sandler Center\nBoneshakers- John 
 Massey Wavy 10 Helicopter Pilot Stage 4 Liver Cancer Fundraiser- Live 
 Entertainment All Afternoon\nMcDonalds Holiday Lights at the Beach\nAr
 cadia- Generic Theatre\nA Christmas Carol- Wells Theatre\nAn Evening W
 ith R. Kelly- Chrysler Hall\nThe Yellow Wallpaper- The Little Theatre 
 of Norfolk\nDan Cummins- Virginia Beach Funny Bone\nDisney Live! Micke
 y’s Music Festival- Ted Constant Center\n2nd Annual Spartyka Warrior
  Challenge – First Landing State Park\nDrag Yourself to Brunch- Croc
 ’s 19th Street Bistro\n \n \n \nCLICK HERE FOR HAPPY HOUR DEALS F
 EATURING SEVERAL LOCAL RESTAURANTS DAILY SPECIALS\n \nCLICK HERE REAC
 H OUR VENUE'S PAGE TO FIND ADDRESSES AND PHONE NUMBERS OF PLACES LIST
 ED\n \nCLICK HERE FOR OUR BAND/DJ PAGE TO FIND DESCRIPTION OF THE BA
 NDS AND LINKS TO THEIR WEB PAGES\n\nFor more information visit https:/
 /vbnightlife.com/events/click-here-for-sunday-12-9-12-virginia-beach-e
 ntertainment-listin
DTSTART:20121209T050000Z
DTEND:20121210T045900Z
CATEGORIES:"virginia beach", "virginia beach nightlife", "virginia bea
 ch bands"
LOCATION:Virginia Beach, VA
WEBSITE:
URL:
CONTACT:
ORGANIZER;CN="VBnightlife.com":https://vbnightlife.com/profile/admin
ATTACH;FMTTYPE="image/jpeg":http://storage.ning.com/topology/rest/1.0/
 file/get/1664182227?profile=original
ATTENDEE;ROLE=REQ-PARTICIPANT;PARTSTAT=ACCEPTED;RSVP=TRUE;CN="VBnightl
 ife.com":https://vbnightlife.com/profile/admin
END:VEVENT
END:VCALENDAR
