BEGIN:VCALENDAR
PRODID:NingEventWidget-v1
VERSION:2.0
METHOD:PUBLISH
BEGIN:VEVENT
UID:2508951:Event:319299
DTSTAMP:20260422T163431Z
SUMMARY:Click here for SUNDAY 12/6/15 VIRGINIA BEACH EVENT & ENTERTAIN
 MENT LISTINGS
DESCRIPTION:\nSpecial Events\nRocking the Stocking Concert & Noblemen 
 Toy DriveÂ at Calypso Bar & Grill - Atlantic Avenue 4p to 10pÂ \nFrogg
 ies - NFL Sunday\nLongshots Billiards & DartsÂ - Chesapeake - Military
  Appreciation Day - Free Pool and drink discounts for the military\nMu
 seum of Contemporary Art (MOCA) -Â Now on ExhibitÂ - Free Family FestÂ
  - 2p to 4p at the Holiday Craft Sale\nStravitz Galleries -Â 12 Days o
 f Christmas SaleÂ \n\nLIVE ENTERTAINMENT\nBella Monte Restaurant & Eno
 teca - 1201 Laskin Rd - Happy Hour at the bar 4 to 6 daily\nBoneshaker
 s - Live Music 3 to 7p on the patio\nEagles NestÂ - Hilltop - NFL Kick
 off Party 11am to 2p\nFroggie's Cantina By The BayÂ - Shore Drive - NF
 L Ticket Â \nJerry's Restaurant & Lounge - Chesapeake -Â Â NFL Ticket\
 nKeagan's Irish Pub - Town Center - Karaoke 9p\nLongshots Billiards & 
 Darts - Chesapeake - Paint Night, Poker & Pool Tournament\nMurphy's Ir
 ish Pub - J & A Shamrock Training Team Launch Party\nThe Pearl Club - 
 Beach Music Sundays\nRY Lounge - Oceanfront - Sunday Night Heat w/ DJ 
 D Izzy, DJ Chino, DJ Emannon\nSouth Beach Grill - Borderline Crazy w/ 
 Mark Alley 8p\nTapped Gastropub- Hilltop - Exposed Open MicÂ hosted by
  A Modern MythÂ 9:30p\nTubby's Tavern - Open Mic 10pm\nWaterman's -\nW
 ing King - Rosemont - Sunday Ticket in HDÂ COUPON\nWing King - Centerv
 ille - Sunday Ticket in HD COUPON\nWoody McGees - Holland Rd- Sunday F
 unday with Happy Hour & Sunday Ticket All Day Long\n\nFor more informa
 tion visit https://vbnightlife.com/events/click-here-for-sunday-12-6-1
 5-virginia-beach-event-entertainment-
DTSTART:20151206T050000Z
DTEND:20151207T045900Z
CATEGORIES:"virginia beach", "virginia beach nightlife", "virginia bea
 ch bands", "virginia beach entertainment", "events in virginia beach",
  "things to do in virginia beach", "mobile app virginia beach"
LOCATION:Virginia Beach, VA
WEBSITE:
URL:
CONTACT:
ORGANIZER:VBnightlife / VBdaylife
ATTACH;FMTTYPE="image/jpeg":http://storage.ning.com/topology/rest/1.0/
 file/get/1664295787?profile=original
ATTENDEE;ROLE=REQ-PARTICIPANT;PARTSTAT=ACCEPTED;RSVP=TRUE;CN="VBnightl
 ife.com":https://vbnightlife.com/profile/admin
ATTENDEE;ROLE=REQ-PARTICIPANT;PARTSTAT=ACCEPTED;RSVP=TRUE;CN="Rolan St
 ears":https://vbnightlife.com/profile/RolanStears
END:VEVENT
END:VCALENDAR
