BEGIN:VCALENDAR
PRODID:NingEventWidget-v1
VERSION:2.0
METHOD:PUBLISH
BEGIN:VEVENT
UID:2508951:Event:320144
DTSTAMP:20260422T123059Z
SUMMARY:Click here for SUNDAY 12/20/15 VIRGINIA BEACH EVENT & ENTERTAI
 NMENT LISTINGS
DESCRIPTION:\nSpecial Events\nFroggies - NFL Sunday\nLongshots Billiar
 ds & Darts - Chesapeake - Military Appreciation Day - Free Pool and d
 rink discounts for the military\nMuseum of Contemporary Art (MOCA) - 
 Now on Exhibit\n\nLIVE ENTERTAINMENT\nBella Monte Restaurant & Enoteca
  - 1201 Laskin Rd - Happy Hour at the bar 4 to 6 daily\nBoneshakers
  - Mama Janice's Surprise Birthday Party 1p\nEagles Nest - Hilltop - 
 NFL Sunday Ticket 11a\nFroggie's Cantina By The Bay - Shore Drive - N
 FL Ticket  \nJerry's Restaurant & Lounge - Chesapeake -  NFL Ticket
 \nKeagan's Irish Pub - Town Center - Karaoke 9p\nRY Lounge - Oceanfron
 t - Sunday Night Heat w/ DJ D Izzy, DJ Chino, DJ Emannon\nSouth Beach 
 Grill - Mike Proffitt & Dana Silvercloud 8p\nTapped Gastropub- Hilltop
  - on the patio 1pm then Open Mic hosted by A Modern Myth 9p\nTubby
 's Tavern - Open Mic 10pm\nWaterman's -\nWing King - Rosemont - Sunday
  Ticket in HD COUPON\nWing King - Centerville - Sunday Ticket in HD C
 OUPON\nWoody McGees - Holland Rd- Sunday Funday with Happy Hour & Sund
 ay Ticket All Day Long\n\nFor more information visit https://vbnightli
 fe.com/events/click-here-for-sunday-12-20-15-virginia-beach-event-ente
 rtainment
DTSTART:20151220T050000Z
DTEND:20151221T045900Z
CATEGORIES:"virginia beach", "virginia beach nightlife", "virginia bea
 ch bands", "virginia beach entertainment", "events in virginia beach",
  "things to do in virginia beach", "mobile app virginia beach"
LOCATION:Virginia Beach, VA
WEBSITE:
URL:
CONTACT:
ORGANIZER:VBnightlife / VBdaylife
ATTACH;FMTTYPE="image/jpeg":http://storage.ning.com/topology/rest/1.0/
 file/get/1664297664?profile=original
ATTENDEE;ROLE=REQ-PARTICIPANT;PARTSTAT=ACCEPTED;RSVP=TRUE;CN="VBnightl
 ife.com":https://vbnightlife.com/profile/admin
END:VEVENT
END:VCALENDAR
