BEGIN:VCALENDAR
PRODID:NingEventWidget-v1
VERSION:2.0
METHOD:PUBLISH
BEGIN:VEVENT
UID:2508951:Event:208321
DTSTAMP:20260423T145852Z
SUMMARY:Click here for SUNDAY 12/2/12 VIRGINIA BEACH ENTERTAINMENT LIS
 TINGS
DESCRIPTION:LIVE ENTERTAINMENT/ DJâ€™S/ KARAOKE:\nCentral 111- DJ\nIl 
 Giardino's â€“ Reginald Blackwell plus 2 for one Entrees\nMurphys- Bre
 nt Shepard\nPortside Inn-Karaoke\nSouth Beach Grill-Ax to Grind\nÂ \nÂ
  \nSPECIAL EVENTS/CONCERTS/ FESTIVALS:\nThe Sleigh Heard â€˜Round The 
 World (Virginia Beach Chorale)- Sandler Center\nMcDonalds Holiday Ligh
 ts at the Beach\nMary Poppins- Chrysler Hall\nChristmas Wish Fund ft. 
 Gridlock 64, Rich Whiskey, AudioSauce, Red Stapler Band, Excess Baggag
 e, ZigZag, Cover This, Natures Child, and Stakeout- StoneHouse Lounge\
 nODU Womans Basketball Vs. Dartmouth\nThe Yellow Wallpaper- The Little
  Theatre of Norfolk\nDrag Yourself to Brunch- Crocâ€™s 19th Street Bis
 tro\nAida- Little Theatre of Virginia Beach\nSteve Lippias Simply Sina
 tra Christmas- Willett Hall\nHoliday Sale & Family Fest- MOCA\nÂ \nÂ \
 nÂ \nCLICK HERE FOR HAPPY HOUR DEALS FEATURING SEVERAL LOCAL RESTAURAN
 TS DAILY SPECIALS\nÂ \nCLICK HERE REACH OUR VENUE'S PAGEÂ TO FIND ADDR
 ESSES AND PHONE NUMBERS OF PLACES LISTED\nÂ \nCLICK HERE FOR OUR BAND/
 DJ PAGEÂ TO FIND DESCRIPTION OF THE BANDS AND LINKS TO THEIR WEB PAGES
 \n\nFor more information visit https://vbnightlife.com/events/click-he
 re-for-sunday-12-2-12-virginia-beach-entertainment-listin
DTSTART:20121202T050000Z
DTEND:20121203T045900Z
CATEGORIES:"virginia beach", "virginia beach nightlife", "virginia bea
 ch bands"
LOCATION:Virginia Beach
WEBSITE:http://vbnightlife.com
URL:http://vbnightlife.com
CONTACT:
ORGANIZER;CN="VBnightlife.com":https://vbnightlife.com/profile/admin
ATTACH;FMTTYPE="image/jpeg":http://storage.ning.com/topology/rest/1.0/
 file/get/1664182021?profile=original
ATTENDEE;ROLE=REQ-PARTICIPANT;PARTSTAT=ACCEPTED;RSVP=TRUE;CN="VBnightl
 ife.com":https://vbnightlife.com/profile/admin
END:VEVENT
END:VCALENDAR
