BEGIN:VCALENDAR
PRODID:NingEventWidget-v1
VERSION:2.0
METHOD:PUBLISH
BEGIN:VEVENT
UID:2508951:Event:299283
DTSTAMP:20260423T074353Z
SUMMARY:Click here for SUNDAY 11/30/14 VIRGINIA BEACH EVENTS & ENTERTA
 INMENT LISTINGS
DESCRIPTION:\nDownload the new FREE mobile app for Virginia Beach.  U
 se this link to download http://onelink.to/yae3t5 or search VBnightlif
 e in the iTunes or Google Play stores today and get a complete list of
  events, restaurant recommendations, coupons and more!\nFEATURED EVENT
 s: \nCountry Christmas at Hunt Club Farm - noon to 9pm Purchase disco
 unt vouchers here: www.VBhotdeals.com\nIce Skating at the Oceanfront 
 - 12pm to 10pm Purchase Discount vouchers here: www.VBhotdeals.com  
 \nLongshots Billiards & Darts- Chesapeake - Military Appreciation Day 
 - Free Pool and drink discounts for the military + Free Texas Hold 'em
  Poker at 7 and 9\n \nMcDonald's Holiday Lights at the Beach\n\nLIVE 
 ENTERTAINMENT    \nBoneshaker's - NFL Sunday Ticket + Patio Jam w/ B
 rian Grilli & Ross King 3pm\nFroggies - NFL Sunday Ticket  \nKeagan's
  - Karaoke 10pm \nMurphy's Irish Pub - Champagne Breakfast (off menu)
  9am-2pm, Mimosa Special: 6oz - 50 cents, 16oz - $1, 32oz - $2 + NFL g
 ames - food specials (change weekly) and Budweiser Draft specials - 16
 oz - $2, 20oz - $2.50\nSly Fox - Open at 11:30am with Happy Hour all D
 ay 'till 7pm and Football Specials including $2.50 Domestic Bottles. S
 ee more Happy Hour Specials on the Happy Hour Button of this App! Dir
 ections Here \nTapped Gastropub - Open Mic w/ Justin & Jonathan 10pm\
 nWing King - Rosemont Rd - NFL Sunday Ticket\nWing King Kempsville - N
 FL Sunday Ticket \n\n\n\nFOR A NEWLY UPDATED HAPPY HOUR LISTING WITH 
 DAILY FOOD AND DRINK DEALS Visit the \"Happy Hour\" Button on the App
   \n \n\nFor a 13 Day Forcast of live music in Coastal Virginia / H
 ampton Roads, visit www.meona.net  \n \n\nFor more information vis
 it https://vbnightlife.com/events/click-here-for-sunday-11-30-14-virgi
 nia-beach-events-entertainmen
DTSTART:20141130T050000Z
DTEND:20141201T045900Z
CATEGORIES:"virginia beach", "virginia beach nightlife", "virginia bea
 ch bands", "virginia beach entertainment", "events in virginia beach",
  "things to do in virginia beach"
LOCATION:Virginia Beach, VA
WEBSITE:
URL:
CONTACT:
ORGANIZER;CN="VBnightlife.com":https://vbnightlife.com/profile/admin
ATTACH;FMTTYPE="image/jpeg":http://storage.ning.com/topology/rest/1.0/
 file/get/1664255560?profile=original
ATTENDEE;ROLE=REQ-PARTICIPANT;PARTSTAT=ACCEPTED;RSVP=TRUE;CN="VBnightl
 ife.com":https://vbnightlife.com/profile/admin
END:VEVENT
END:VCALENDAR
