BEGIN:VCALENDAR
PRODID:NingEventWidget-v1
VERSION:2.0
METHOD:PUBLISH
BEGIN:VEVENT
UID:2508951:Event:299374
DTSTAMP:20260423T235640Z
SUMMARY:Click here for SUNDAY 11/23/14 VIRGINIA BEACH EVENTS & ENTERTA
 INMENT LISTINGS
DESCRIPTION:\nDownload the new FREE mobile app for Virginia Beach. Â U
 se this link to download http://onelink.to/yae3t5 or search VBnightlif
 e in the iTunes or Google Play stores today and get a complete list of
  events, restaurant recommendations, coupons and more!\nÂ \nENTERTAINM
 ENT Â  Â \nBoneshaker's - NFL Sunday Ticket - Patio Jam with In the Mi
 nds of Scott and Julie\nFroggies - NFL Sunday Ticket Â \nKeagan's - Ka
 raoke 10pmÂ \nSly Fox - Open at 11:30am with Happy Hour all Day 'till 
 7pm and Football Specials including $2.50 Domestic Bottles. See more H
 appy Hour Specials on the Happy Hour Button of this App!Â Directions H
 ereÂ \nTapped Gastropub - Open Mic w/ Justin & Jonathan 10pm\nTradewin
 ds - Â Karl Werne,Â Â Eddie Williams 5pm to 8pm\nWing King - Rosemont 
 Rd - NFL Sunday Ticket\nWing King Kempsville - NFL Sunday TicketÂ \nÂ 
 \nHOLIDAY EVENT\nMcDonald's Holiday Lights at the Beach\n\n\nFOR A NEW
 LY UPDATED HAPPY HOUR LISTING WITH DAILY FOOD AND DRINK DEALSÂ Visit t
 he \"Happy Hour\" Button on the App Â \nÂ \n\nFor a 13 Day Forcast of 
 live musicÂ in Coastal Virginia / Hampton Roads, visitÂ www.meona.netÂ
  Â \nÂ \n\nFor more information visit https://vbnightlife.com/events/c
 lick-here-for-sunday-11-23-14-virginia-beach-events-entertainmen
DTSTART:20141123T050000Z
DTEND:20141124T045900Z
CATEGORIES:"virginia beach", "virginia beach nightlife", "virginia bea
 ch bands", "virginia beach entertainment", "events in virginia beach",
  "things to do in virginia beach"
LOCATION:Virginia Beach, VA
WEBSITE:
URL:
CONTACT:
ORGANIZER;CN="VBnightlife.com":https://vbnightlife.com/profile/admin
ATTACH;FMTTYPE="image/jpeg":http://storage.ning.com/topology/rest/1.0/
 file/get/1664253239?profile=original
ATTENDEE;ROLE=REQ-PARTICIPANT;PARTSTAT=ACCEPTED;RSVP=TRUE;CN="VBnightl
 ife.com":https://vbnightlife.com/profile/admin
END:VEVENT
END:VCALENDAR
