BEGIN:VCALENDAR
PRODID:NingEventWidget-v1
VERSION:2.0
METHOD:PUBLISH
BEGIN:VEVENT
UID:2508951:Event:318543
DTSTAMP:20260424T033239Z
SUMMARY:Click here for SUNDAY 11/22/15 VIRGINIA BEACH EVENT & ENTERTAI
 NMENT LISTINGS
DESCRIPTION:\nSpecial Events\nFroggies - NFL Sunday\nLongshots Billiar
 ds & Darts - Chesapeake - Military Appreciation Day - Free Pool and d
 rink discounts for the military\nMuseum of Contemporary Art (MOCA) - 
 Now on Exhibit\n\nLIVE ENTERTAINMENT\nBoneshakers - Live Music 3 to 7p
  on the patio\nEagles Nest - Hilltop - Live Music 11am to 2p\nFroggie
 's Cantina By The Bay - Shore Drive - NFL Ticket  \nJerry's Restaura
 nt & Lounge - Chesapeake -  NFL Ticket\nKeagan's Irish Pub - Town Ce
 nter - Karaoke 9p\nThe Pearl Club - Beach Music Sundays\nRY Lounge - O
 ceanfront - Sunday Night Heat w/ DJ D Izzy, DJ Chino, DJ Emannon\nSout
 h Beach Grill - no band listed on their site  8p\nTapped Gastropub- H
 illtop - on the patio 1pm then Open Mic hosted by A Modern Myth 9p\
 nTubby's Tavern - Open Mic w/ Justin & Jonathan 10pm\nWing King - Rose
 mont - Sunday Ticket in HD COUPON\nWing King - Centerville - Sunday T
 icket in HD COUPON\nWoody McGees - Holland Rd- Sunday Funday with Happ
 y Hour & NFL Sunday Ticket All Day Long\n\nFor more information visit
  https://vbnightlife.com/events/click-here-for-sunday-11-22-15-virgini
 a-beach-event-entertainment
DTSTART:20151122T050000Z
DTEND:20151123T045900Z
CATEGORIES:"virginia beach", "virginia beach nightlife", "virginia bea
 ch bands", "virginia beach entertainment", "events in virginia beach",
  "things to do in virginia beach", "mobile app virginia beach"
LOCATION:Virginia Beach, VA
WEBSITE:
URL:
CONTACT:
ORGANIZER:VBnightlife / VBdaylife
ATTACH;FMTTYPE="image/jpeg":http://storage.ning.com/topology/rest/1.0/
 file/get/1664290525?profile=original
ATTENDEE;ROLE=REQ-PARTICIPANT;PARTSTAT=ACCEPTED;RSVP=TRUE;CN="VBnightl
 ife.com":https://vbnightlife.com/profile/admin
END:VEVENT
END:VCALENDAR
