BEGIN:VCALENDAR
PRODID:NingEventWidget-v1
VERSION:2.0
METHOD:PUBLISH
BEGIN:VEVENT
UID:2508951:Event:299450
DTSTAMP:20260419T231406Z
SUMMARY:Click here for SUNDAY 11/2/14 VIRGINIA BEACH EVENTS & ENTERTAI
 NMENT LISTINGS
DESCRIPTION:\nDownload the new FREE mobile app for Virginia Beach. Â U
 se this link to download http://onelink.to/yae3t5 or search VBnightlif
 e in the iTunes or Google Play stores today and get a complete list of
  events, restaurant recommendations, coupons and more!\nFEATURED EVENT
 :\nHouse of Blues and Brews w/ 2 live bands - 1 to 6pm\nhttp://vbnight
 life.com/events/house-of-blues-and-brews-at-virginia-museum-of-contemp
 orary-art\n\nLIVE ENTERTAINMENT Â  Â \nBoneshaker's - NFL Sunday Ticke
 t\nFroggies - NFL Sunday Ticket Â \nKeagan's - Karaoke 10pmÂ \nSly Fox
  - Open at 11:30am with Happy Hour all Day 'till 7pm and Football Spec
 ials including $2.50 Domestic Bottles. See more Happy Hour Specials on
  the Happy Hour Button of this App!Â Directions HereÂ \nTapped Gastrop
 ub - Open Mic w/ Justin & Jonathan 10pm\nTradewinds - Â Karl Werne,Â Â
  Eddie Williams 5pm to 8pm\nWing King - Rosemont Rd - NFL Sunday Ticke
 t\nWing King Kempsville - NFL Sunday TicketÂ \n\nHunt Club Farm - Harv
 est FestÂ www.VBhotdeals.comÂ \n\n\nFOR A NEWLY UPDATED HAPPY HOUR LIS
 TING WITH DAILY FOOD AND DRINK DEALSÂ Visit the \"Happy Hour\" Button 
 on the App Â \nÂ \n\nFor a 13 Day Forcast of live musicÂ in Coastal Vi
 rginia / Hampton Roads, visitÂ www.meona.netÂ Â \nÂ \n\nFor more infor
 mation visit https://vbnightlife.com/events/click-here-for-sunday-11-2
 -14-virginia-beach-events-entertainment
DTSTART:20141102T040000Z
DTEND:20141103T045900Z
CATEGORIES:"virginia beach", "virginia beach nightlife", "virginia bea
 ch bands", "virginia beach entertainment", "events in virginia beach",
  "things to do in virginia beach"
LOCATION:Virginia Beach, VA
WEBSITE:
URL:
CONTACT:
ORGANIZER;CN="VBnightlife.com":https://vbnightlife.com/profile/admin
ATTACH;FMTTYPE="image/jpeg":http://storage.ning.com/topology/rest/1.0/
 file/get/1664256465?profile=original
ATTENDEE;ROLE=REQ-PARTICIPANT;PARTSTAT=ACCEPTED;RSVP=TRUE;CN="VBnightl
 ife.com":https://vbnightlife.com/profile/admin
END:VEVENT
END:VCALENDAR
