BEGIN:VCALENDAR
PRODID:NingEventWidget-v1
VERSION:2.0
METHOD:PUBLISH
BEGIN:VEVENT
UID:2508951:Event:316907
DTSTAMP:20260424T121017Z
SUMMARY:Click here for SUNDAY 11/1/15 VIRGINIA BEACH EVENT & ENTERTAIN
 MENT LISTINGS
DESCRIPTION:\nSpecial Events\nFroggies - NFL Sunday\n7th Annual House 
 of Blues & Brews - Virginia Museum of Contemporary Art 1p to 5p \nHu
 nt Club Farm HARVEST FEST - 50% off Family 4 Pack on www.VBhotdeals.c
 om   10am to 6pm\nZOMBIE Paintball - 58% off on www.VBhotdeals.com\
 nLongshots Billiards & Darts - Chesapeake - Military Appreciation Day
  - Free Pool and drink discounts for the military\nMuseum of Contempor
 ary Art (MOCA) - Now on Exhibit\n\nLIVE ENTERTAINMENT\nBoneshakers - 
 Live Music 3 to 7p on the patio\nEagles Nest - Hilltop - NFL Sunday K
 ickoff Party 11a\nFroggie's Cantina By The Bay - Shore Drive - NFL Ti
 cket  \nJerry's Restaurant & Lounge - Chesapeake -  NFL Ticket\nKea
 gan's Irish Pub - Town Center - Karaoke 9p\nThe Pearl Club - Beach Mus
 ic Sundays\nRY Lounge - Oceanfront - Sunday Night Heat w/ DJ D Izzy, D
 J Chino, DJ Emannon\nSouth Beach Grill - no band listed on their site 
  8p\nTapped Gastropub- Hilltop - on the patio 1pm then Open Mic hos
 ted by A Modern Myth 9p\nTubby's Tavern - Open Mic w/ Justin & Jonath
 an 10pm\nWaterman's -\nWing King - Rosemont - Sunday Ticket in HD COU
 PON\nWing King - Centerville - Sunday Ticket in HD COUPON\nWoody McGee
 s - Holland Rd- Sunday Funday with Happy Hour All Day Long\n\nFor more
  information visit https://vbnightlife.com/events/click-here-for-sunda
 y-11-1-15-virginia-beach-event-entertainment
DTSTART:20151101T040000Z
DTEND:20151102T045900Z
CATEGORIES:"virginia beach", "virginia beach nightlife", "virginia bea
 ch bands", "virginia beach entertainment", "events in virginia beach",
  "things to do in virginia beach", "mobile app virginia beach"
LOCATION:Virginia Beach, VA
WEBSITE:
URL:
CONTACT:
ORGANIZER:VBnightlife / VBdaylife
ATTACH;FMTTYPE="image/jpeg":http://storage.ning.com/topology/rest/1.0/
 file/get/1664287816?profile=original
ATTENDEE;ROLE=REQ-PARTICIPANT;PARTSTAT=ACCEPTED;RSVP=TRUE;CN="VBnightl
 ife.com":https://vbnightlife.com/profile/admin
END:VEVENT
END:VCALENDAR
