BEGIN:VCALENDAR
PRODID:NingEventWidget-v1
VERSION:2.0
METHOD:PUBLISH
BEGIN:VEVENT
UID:2508951:Event:262203
DTSTAMP:20260422T043354Z
SUMMARY:Click here for SUNDAY 10/6/13 VIRGINIA BEACH ENTERTAINMENT LIS
 TINGS
DESCRIPTION:LIVE ENTERTAINMENT/ DJ’S/ KARAOKE:\n31st Street - JT Wal
 k  and Beach Party\n- Strictly Bizzness - Registration in the morning
 \n- Borderline Crazy - Start line (11am)\n- Brandon Bower Band - Mahi 
 Mah's half-way party\nAfter Party at 31st Street: (no times listed)\n-
  Gridlock 64 - Main stage \n- The Deloreans - Main stage\n- Guava Jam
  - Main stage\nBoneshakers Sports Bar and Grill – Pridemore 2pm-6pm
 \nCactus Jacks – DJ Sdot 1pm\nIl Giardino's- Reginald Blackwell 6:
 30pm-10:30pm\nJewish Mother Hilltop- Donna The Buffalo 8pm\nKeagans- K
 araoke 9pm\nMurphys- Brent Shepard\nRock Fish - Sunday Football w/ Dr
 ink Specials\nSandbridge Island Grill- Ed Kelleher 4-7pm\n \nSPECIAL 
 EVENTS/CONCERTS/ FESTIVALS:\nInternational Sandsculpting Championship-
 4th-10th Street\n2013 Homecoming 5K- ODU\nFall Harvest Fair- Hunt Club
  Farms 10am-6pm\nPete Correale- Virginia Beach Funny Bone\nThe Fox on 
 the Fairway- Little Theatre of Virginia Beach 2:30pm\nThe Great Gatsby
 - Wells Theatre 2pm\nGospel & Jazz Celebration Weekend- Roy Muth Big B
 and- Attucks Theatre 3pm\n \n \nCLICK HERE FOR THE BEST DEALS & COUP
 ONS IN VIRGINIA BEACH FEATURING EXCLUSIVE BARGAINS\n \nCLICK HERE FO
 R HAPPY HOUR DEALS FEATURING SEVERAL LOCAL RESTAURANTS DAILY SPECIALS\
 n \nCLICK HERE REACH OUR VENUE'S PAGE TO FIND ADDRESSES AND PHONE NU
 MBERS OF PLACES LISTED\n \nCLICK HERE FOR OUR BAND/DJ PAGE TO FIND D
 ESCRIPTION OF THE BANDS AND LINKS TO THEIR WEB PAGES\n\nFor more infor
 mation visit https://vbnightlife.com/events/click-here-for-sunday-10-6
 -13-virginia-beach-entertainment-listin
DTSTART:20131006T040000Z
DTEND:20131007T035900Z
CATEGORIES:"virginia beach", "virginia beach nightlife", "virginia bea
 ch bands", "virginia beach entertainment"
LOCATION:Virginia Beach, VA
WEBSITE:
URL:
CONTACT:
ORGANIZER;CN="VBnightlife.com":https://vbnightlife.com/profile/admin
ATTACH;FMTTYPE="image/jpeg":http://storage.ning.com/topology/rest/1.0/
 file/get/1664207301?profile=original
ATTENDEE;ROLE=REQ-PARTICIPANT;PARTSTAT=ACCEPTED;RSVP=TRUE;CN="VBnightl
 ife.com":https://vbnightlife.com/profile/admin
END:VEVENT
END:VCALENDAR
