BEGIN:VCALENDAR
PRODID:NingEventWidget-v1
VERSION:2.0
METHOD:PUBLISH
BEGIN:VEVENT
UID:2508951:Event:271367
DTSTAMP:20260419T205053Z
SUMMARY:Click here for SUNDAY 1/5/14 VIRGINIA BEACH ENTERTAINMENT LIST
 INGS
DESCRIPTION:LIVE ENTERTAINMENT/ DJâ€™S/ KARAOKE:\nBoneshakers Sports B
 ar and GrillÂ â€“ Dave Johnson 3pm-7pm\nIl Giardino's-Â Â 2 for 1 Sund
 ays\nKeagans- Karaoke\nPoppas Pub- Rendition\nSeaside Raw Bar- Karaoke
  10pm\nSouth Beach Grill- Malt Liquor Sundae\nTapped Gastropub- Open M
 ic 10pm\nTradewinds- Karl Werne & Eddie Williams 5pm\nÂ \nSPECIAL EVEN
 TS/CONCERTS/ FESTIVALS:\nThe Complete Works of William Shakespeare- Li
 ttle Theatre of Norfolk\nODU Womens Basketball- Ted Constant Center\nÂ
  \nÂ \nPlease note thatÂ bookings can change at the last minute. Â If 
 times are notÂ available, we recommend checking with the venue before 
 heading out!Â \nÂ \nCLICK HERE FOR THE BEST DEALS & COUPONSÂ IN VIRGIN
 IA BEACH FEATURING EXCLUSIVE BARGAINS\nÂ \nCLICK HERE FOR HAPPY HOUR D
 EALS FEATURING SEVERAL LOCAL RESTAURANTS DAILY SPECIALS\nÂ \nCLICK HER
 E REACH OUR VENUE'S PAGEÂ TO FIND ADDRESSES AND PHONE NUMBERS OF PLACE
 S LISTED\nÂ \nCLICK HERE FOR OUR BAND/DJ PAGEÂ TO FIND DESCRIPTION OF 
 THE BANDS AND LINKS TO THEIR WEB PAGES\n\nFor more information visit h
 ttps://vbnightlife.com/events/click-here-for-sunday-1-5-14-virginia-be
 ach-entertainment-listing
DTSTART:20140105T050000Z
DTEND:20140106T045900Z
CATEGORIES:"virginia beach", "virginia beach nightlife", "virginia bea
 ch bands", "virginia beach entertainment"
LOCATION:Virginia Beach, VA
WEBSITE:
URL:
CONTACT:
ORGANIZER;CN="VBnightlife.com":https://vbnightlife.com/profile/admin
ATTACH;FMTTYPE="image/jpeg":http://storage.ning.com/topology/rest/1.0/
 file/get/1664217949?profile=original
ATTENDEE;ROLE=REQ-PARTICIPANT;PARTSTAT=ACCEPTED;RSVP=TRUE;CN="VBnightl
 ife.com":https://vbnightlife.com/profile/admin
END:VEVENT
END:VCALENDAR
