BEGIN:VCALENDAR
PRODID:NingEventWidget-v1
VERSION:2.0
METHOD:PUBLISH
BEGIN:VEVENT
UID:2508951:Event:323486
DTSTAMP:20260423T065835Z
SUMMARY:Click here for SUNDAY 1/17/16 VIRGINIA BEACH EVENT & ENTERTAIN
 MENT LISTINGS
DESCRIPTION:\nSpecial Events\nFroggies - NFL Sunday\nLongshots Billiar
 ds & Darts - Chesapeake - Military Appreciation Day - Free Pool and d
 rink discounts for the military\nMuseum of Contemporary Art (MOCA) - 
 Now on Exhibit\n\nLIVE ENTERTAINMENT\nBella Monte Restaurant & Enoteca
  - 1201 Laskin Rd - Happy Hour at the bar 4 to 6 daily\nBoneshakers
  - Live Music 3 to 7p on the patio\nEagles Nest - Hilltop - NFL Footb
 all\nFroggie's Cantina By The Bay - Shore Drive - NFL Ticket  \nJerr
 y's Restaurant & Lounge - Chesapeake -  NFL Ticket & Jeremy Beasley 
 Memorial Benefit 1 to 7p\nKeagan's Irish Pub - Town Center - Karaoke 9
 p\nRY Lounge - Oceanfront - Sunday Night Heat w/ DJ D Izzy, DJ Chino, 
 DJ Emannon\nSouth Beach Grill -  8p\nTapped Gastropub- Hilltop - on t
 he patio 1pm then Open Mic hosted by A Modern Myth 9p\nTubby's Tave
 rn - Open Mic 10pm\nWaterman's -\nWing King - Rosemont - Sunday Ticket
  in HD COUPON\nWing King - Centerville - Sunday Ticket in HD COUPON\n
 Woody McGees - Holland Rd- Sunday Funday with Happy Hour & Sunday Tick
 et All Day Long\n\nFor more information visit https://vbnightlife.com/
 events/click-here-for-sunday-1-17-16-virginia-beach-event-entertainmen
 t-
DTSTART:20160117T050000Z
DTEND:20160118T045900Z
CATEGORIES:"virginia beach", "virginia beach nightlife", "virginia bea
 ch bands", "virginia beach entertainment", "events in virginia beach",
  "things to do in virginia beach", "mobile app virginia beach"
LOCATION:Virginia Beach, VA
WEBSITE:
URL:
CONTACT:
ORGANIZER:VBnightlife / VBdaylife
ATTACH;FMTTYPE="image/jpeg":http://storage.ning.com/topology/rest/1.0/
 file/get/1664294524?profile=original
ATTENDEE;ROLE=REQ-PARTICIPANT;PARTSTAT=ACCEPTED;RSVP=TRUE;CN="VBnightl
 ife.com":https://vbnightlife.com/profile/admin
END:VEVENT
END:VCALENDAR
