BEGIN:VCALENDAR
PRODID:NingEventWidget-v1
VERSION:2.0
METHOD:PUBLISH
BEGIN:VEVENT
UID:2508951:Event:186251
DTSTAMP:20260423T145903Z
SUMMARY:Click here for SUNDAY 1/15/12 VIRGINIA BEACH ENTERTAINMENT LIS
 TINGS
DESCRIPTION:ENTERTAINMENT\nBaker Street-NFL-Sunday-1pm\n11th Street Ta
 phouse- Sunday FUNDAY- 12PM-3PM\nBaker Street-NFL Sunday Ticket-1pm\nC
 alypso- Football Specials w/ Sunday Ticket\nHavana Nights- Open Mic w/
  House Jazz Band, 8-10PM\nIL Giardino-2 for 1 Entrees!\nJewish Mother 
 - Bobby Blackhat Birthday & CD Release Party,  4-8PM\nKeagan's - Kara
 oke 9pm\nMurphys- Brent Shepard, 9PM\nSouth Beach Grill - Mike Proffit
 t\n \nTHEATRE/FUNDRAISERS/CONCERTS/SPORTS:\nFunny Bone Comedy Club - 
 Joe Torry\nScope- Uniquely Yours Bridal Showcase, 11AM\nChrysler Hall-
  Death and the Maiden, 2:30PM\n\nDJ’S/KARAOKE/DANCES:\nAJ Gators (Ho
 lland Road)- Texas Hold 'em- 7PM\nRetro Cafe- Karaoke\nChicho’s 29th
  - *KARAOKE\nPoppa’s Pub - *KARAOKE* 9:30PM\nJewish Mother- MOMS KAR
 AOKE 8pm\nWannaB's- KARAOKE 7 PM - 2 AM  Monday - Saturday (21 and Ol
 der)\n\nHAPPY HOUR:\nCLICK HERE FOR HAPPY HOUR DEALS\n\nFAMILY FUN/SPE
 CIAL EVENTS\nVirginia Beach Restaurant Week 2012\nLittle Theatre of Vi
 rginia Beach- Getting Away with Murder (through February 5th)\nPeabody
 s- Graffiti Glo Party\n\nCLICK HERE REACH OUR VENUE'S PAGE TO FIND ADD
 RESSES AND PHONE NUMBERS OF PLACES LISTED\nCLICK HERE FOR OUR BAND/DJ 
 PAGE TO FIND DESCRIPTION OF THE BANDS AND LINKS TO THEIR WEB PAGES\n\n
 For more information visit https://vbnightlife.com/events/click-here-f
 or-sunday-1-15-12-virginia-beach-entertainment-listin
DTSTART:20120115T050000Z
DTEND:20120116T045900Z
CATEGORIES:"virginia beach bands", "virginia beach entertainment", "vi
 rginia beach nightlife"
LOCATION:Virginia Beach
WEBSITE:
URL:
CONTACT:
ORGANIZER;CN="VBnightlife.com":https://vbnightlife.com/profile/admin
ATTACH;FMTTYPE="image/jpeg":http://storage.ning.com/topology/rest/1.0/
 file/get/1664162525?profile=original
ATTENDEE;ROLE=REQ-PARTICIPANT;PARTSTAT=ACCEPTED;RSVP=TRUE;CN="VBnightl
 ife.com":https://vbnightlife.com/profile/admin
END:VEVENT
END:VCALENDAR
