BEGIN:VCALENDAR
PRODID:NingEventWidget-v1
VERSION:2.0
METHOD:PUBLISH
BEGIN:VEVENT
UID:2508951:Event:12987
DTSTAMP:20260425T160209Z
SUMMARY:click here for SATURDAY'S BAND / EVENTS LISTING
DESCRIPTION:15th Street Raw Bar - VB \"EVERYBODY LOVES TEQUILA\n31st S
 treet (Catch) - CHARLES DARDEN\n501 - DKR - DAVE, KATE AND ROSS\n7th S
 treet Stage - DJ\nAbbey Road - VB \"DOUBLE TAKE\"\nBaker Street - VB \
 "151\nCap't Ron's - Norfolk \"OFF THE CHAIN\nClutch - EVOLUTION BLUES 
 BAND\nFat Tuesday's - DUCHESS WILDER BAND\nGil's - DOWNLOAD\nGreenies 
 - Norfolk \"RIVER BOYZ\nGreen Parrot Grille - THE RESONATORS\nH2O - VB
  \"GREY MATTER\nHalf Shell - 100.5 MaxFm - BATTLE OF THE GENRES WEEK 2
 \nHell's Kitchen - Norfolk \"PAWN SHOP LIFTERS\nHot Tuna - VB \"DYNAMO
 HUM\nJewish Mother - LEZ ZEPPELIN\nKnuckleheads - VB \"RENDITION\"\nKo
 koamos - DAHNA ROWE ON THE DECK; BORDERLINE CRAZY @10PM\nLendy's - ROC
 KSTAR PARKING\nMiss Kitty's - VB \"JASON SWAIN & ATLANTIC CROSSING\nO'
 Sullivan's Wharf - BIG FUN\nOtani's Grill - EMPTY HANDED\nRegal Beagle
  - SHIFTY SOUTH W/ GASOLINE\nScooter's Sports Bar - VB \"USED MUSIC\"\
 nSouth Beach Grill - VB \"INSIDE OUT BAND\nSmackwater Jacks - BRUTE HO
 NESTY\nStarz - JERRY LEE SCOTT BAND\nTap House - Norfolk \"THE RATS\" 
 + \"JIMMY & THE TEASERS\nTiki Seagrille - BUTTER\nThirsty Camel - Ocea
 n View - Norfolk\nWaterside Center Stage - Norfolk - 6:30pm - 8:30pm\n
 \nOUTDOOR EVENTS\n31st STEET STAGE - VB \"AGAINST ALL ODDS\"\nBUSCH GA
 RDENS * BUD & BBQ * \"38 SPECIAL\nSUMMER NIGHT STREET FEST - Downtown 
 Hampton (BLOCK PARTY) \"TAILGATE DOWN\"\n\nFor more information visit 
 https://vbnightlife.com/events/click-here-for-saturdays-band-4
DTSTART:20090509T040000Z
DTEND:20090510T035900Z
CATEGORIES:band, dj
LOCATION:Virginia Beach / Norfolk
WEBSITE:
URL:
CONTACT:
ORGANIZER;CN="Nicole Maxino":https://vbnightlife.com/profile/NicoleMax
 ino
ATTACH;FMTTYPE="image/jpeg":http://storage.ning.com/topology/rest/1.0/
 file/get/1664074364?profile=original
ATTENDEE;ROLE=REQ-PARTICIPANT;PARTSTAT=ACCEPTED;RSVP=TRUE;CN="Nicole M
 axino":https://vbnightlife.com/profile/NicoleMaxino
END:VEVENT
END:VCALENDAR
