BEGIN:VCALENDAR
PRODID:NingEventWidget-v1
VERSION:2.0
METHOD:PUBLISH
BEGIN:VEVENT
UID:2508951:Event:28044
DTSTAMP:20260420T061806Z
SUMMARY:click here for SATURDAY'S BAND / NIGHTLIFE / EVENTS LISTING
DESCRIPTION:LIVE ENTERTAINMENT/BANDS:\n15th St. Raw Bar - VB \"VINYL H
 EADLIGHTS\"\n37th & Zen - N \"RYLO\"\nAbbey Road - VB \"KARL WERNE\"\n
 AJ Gators - VB Fairfield *KARAOKE* w/DJ\nBaker Street - VB \"GRIDLOCK 
 64\"\nBar None - N \"I.T.V.\"\nChicho's 29th Street - VB \"JACKMOVE\"\
 nClutch Bar & Grill - VB \"JERRY LEE SCOTT BAND\"\nConklin's Irish Rov
 er - VB \"MARTIN MARRON\"\nDiesel - VB \"BRIAN SEWELL\" 5:30pm\nFinn M
 cCool's - VB \"KEVIN BLEAKELY\"\nFunny Bone Comedy Club - VB \"J. MEDI
 CINE HAT\"\nGreenies - N \"SOUTHERN BLEND\"\nHalf Shell - VB \"FIRE FA
 ITHFUL\" $10\nHell's Kitchen - VB \"ELT\"\nIl Giardino's - VB \"BILL B
 ATTE\"\nJewish Mother - VB \"WOODWORK\"\nKeagan's Town Center - VB \"D
 AN ZINGO\"\nKeagan's Pub & Grill - VB \"STEVE FORSS\"\nKnuckleheads - 
 VB \"PARALLEL MINDS\"\nKokoamos - VB \"DYNAMOHUM\"\nLucky Oyster - VB 
 \"HOTCAKES\"\nMarriott Norfolk Waterside - N *MASQUERADE BALL* W/\"MIC
 HAEL CLARK BAND\"\nMona Lisa - Ocean View - N \"THE DELOREANS\"\nNew M
 oon Cafe - VB \"DAVE, KATE, ROSS AND ROCKABILLY SHEARIN\"\nNorva - N \
 "BADFISH\" + \"BIMINI ROAD\"\nOtani - VB \"JIMMY MASTERS TRIO\"\nPoppa
 's Pub - VB \"CHASING CORONA\"\nRegal Beagle - VB \"THE GLOOM\"\nSammy
 's - VB \"ELIFINO\"\nScandals - VB \"ELEMENT\" \"BLIND TOONA\"\nSmackw
 ater Jacks - VB \"BLUE LORDS\"\nSnapper's - N \"KEVIN KELLEY\"\nSouth 
 Beach Grill - VB \"STRICTLY BIZZNESS\"\nStarz - VB \"BORDERLINE\"\nTap
  House - N \"TERRY GARLAND\"\nTiki Seagrille - VB \"HOTCAKES\"\nWells 
 Theatre - N *BILLY BISHOP GOES TO WAR*\nWing King - VB \"NATURE'S CHIL
 D\"\n\nTHEATRE/PLAYS/CONCERTS/SPORTS:\nChrysler Hall - N \"BILL COSBY\
 "\nLittle Theatre of Norfolk - N *I OUGHT TO BE IN PICTURES*\nLittle T
 heatre of Virginia Beach - VB \"AN ACT OF THE IMAGINATION\"\n\nDJ'S/KA
 RAOKE/DANCES:\nAJ Gators - N Wards Corner *KARAOKE*\nAJ Gators - VB Ge
 neral Booth *KARAOKE* w/DJ\nBayside Inn - VB *KARAOKE*\nBlarney Stone 
 Pub - VB *KARAOKE*\nBrass Bell - VB *KARAOKE*\nCatch 31 - VB \"ANDY KI
 M DEEJAYING\" 10 PM\nCatherine’s - VB *KARAOKE*\nDocker's Restaurant
  & Karaoke Pub - VB *KARAOKE* 9pm\nFounder's Inn - VB *PLAYDATE HAMPTO
 N ROADS* 8pm\nH20 - VB *DJ DUCKETT*\nHook's Saltwater Grill - VB *OPEN
  MIC NIGHT*\nHot Tuna - VB *ROCKYOAKE DATE*\nIke’s Sportz Bar - VB *
 KARAOKE*\nLendy’s - VB *KARAOKE*\nPlaza Del Sol - N *LATIN MUSIC & D
 ANCING* 10pm\nSecrets - VB *KARAOKE*\nTropicana Lounge - VB *DJ MARIO*
 \n\nFor more information visit https://vbnightlife.com/events/click-he
 re-for-saturdays-band-32
DTSTART:20100123T050000Z
DTEND:20100124T045900Z
CATEGORIES:band, "/", dj, sports
LOCATION:VIRGINIA BEACH / NORFOLK
WEBSITE:
URL:
CONTACT:
ORGANIZER;CN="VBnightlife.com":https://vbnightlife.com/profile/admin
ATTACH;FMTTYPE="image/jpeg":http://storage.ning.com/topology/rest/1.0/
 file/get/1664096042?profile=original
ATTENDEE;ROLE=REQ-PARTICIPANT;PARTSTAT=ACCEPTED;RSVP=TRUE;CN="VBnightl
 ife.com":https://vbnightlife.com/profile/admin
END:VEVENT
END:VCALENDAR
