BEGIN:VCALENDAR
PRODID:NingEventWidget-v1
VERSION:2.0
METHOD:PUBLISH
BEGIN:VEVENT
UID:2508951:Event:11345
DTSTAMP:20260422T233621Z
SUMMARY:click here for SATURDAY'S BAND / EVENTS LISTING
DESCRIPTION:15th Street Raw Bar - VB \"JASON SWAIN & ATLANTIC CROSSING
 \n501 - DAVE, KATE AND ROSS\n5040 - (5040 Virginia Beach Blvd) - VINCE
 \nAbbey Road - VB \"DAVID PETRETTO\"\nBaker Street - VB \"EL KABONG\nB
 oneshakers - VB \"RIVER BOYZ\nCabo - DJ SERGE\nCap't Ron's - Norfolk \
 "EXCESS BAGGAGE\nFinn McCool's - VB \"KEVIN BLEAKLEY\nGreenies - Norfo
 lk \"BRAD STREET BAND\nH2O - VB \"JESSE CHONG\nHalf Shell - BURNCYCLE,
  DIRGE FOR THE SLAIN, FISTFUL OF FIFTIES, AND MORE\nHampton Street Fes
 t - MOLLY HATCHET\nHell's Kitchen - Norfolk \"REDLINE ADDICTION\nHot T
 una - DJ VITALI\nKeagans - Town Center - VB \" ? ? ? \" 10pm\nKnuckleh
 eads - VB \"RENDITION\"\nKokoamos - VB \"VINYL HEADLIGHTS\nLucky Oyste
 r - VB \"LEMON DISH\nMo & O'Malleys - Norfolk \"DAVE CRUMPLER\"\nMurph
 y's Irish Pub - VB \"JAMES WEST\"\nNorva - Norfolk \"BADFISH\"\nOtani 
 - KARL WERNE + EDDIE WILLIAMS\nScandals - VB \"MONKEYBOOTY\nSouth Beac
 h Grill - VB \"BLUE LORDS\"\nSouth End Pub - VB \"FOREFRONT\"\nTap Hou
 se - Norfolk \"MICHAEL CLARK BAND\nThirsty Camel - Ocean View - Norfol
 k\nWaterside Center Stage - Norfolk - 6:30pm - 8:30pm \"BLACK WHITE BL
 UES\"\nWing King Sports Bar & Grille - VB \"JOHN BALDWIN DUO\" 8:30pm\
 n\nOUTDOOR EVENTS\nGOSPEL FEST - 17th STREET STAGE - VB\n01:00pm \"JUL
 IA CANADIA\"\n01:40pm \"MICHAEL SMITH\"\n02:20pm \"EPIQ\" + \"JALEY & 
 RAIDERZ OF THE LOST\" + more\n03:00pm \"KEVIN HAWKINS\"\n\n03:40pm \"V
 ERNON GORDON & ELEVATED WORSHIP\"\n04:20pm \"LAMOND CHESTNUT\"\n05:00p
 m \"ANDRE JONES\" & SACRED ASSEMBLY\"\n05:40pm \"ECCLESIA\"\n06:20pm \
 "VICTOR THOMPSON\"\n07:00pm \"SHERRY SORRELL\"\n07:40pm \"KAREN POOLE\
 "\n08:20pm \"GOD'S IMAGE\"\n09:00pm \"ESTEE\"\n09:40pm \"NEW HARVEST\"
 \n\nCHESAPEAKE ARTS SHOW - Portlock Galleries - Chesapeake\n11:30am \"
 ROBERT MATTER\"\n01:00pm \"NARISSA BOND\"\n02:30pm \"BRIA KELLY\"\n04:
 00pm \"SKIP FRIEL & THE RESONATORS\"\n\nYOUTH FOUNDATION SERVICES CLUB
  (FORMERLY EXCHANGE CLUB PARTY)- Camp Pendleton - 3:30pm - 6:00pm ELEM
 ENT + HEATHER EDWARDS BAND\n\nFor more information visit https://vbnig
 htlife.com/events/click-here-for-saturdays-band-2
DTSTART:20090425T220000Z
DTEND:20090425T230000Z
CATEGORIES:bands, dj
LOCATION:Virginia Beach / Norfolk
WEBSITE:
URL:
CONTACT:
ORGANIZER;CN="Nicole Maxino":https://vbnightlife.com/profile/NicoleMax
 ino
ATTACH;FMTTYPE="image/jpeg":http://storage.ning.com/topology/rest/1.0/
 file/get/1664072754?profile=original
ATTENDEE;ROLE=REQ-PARTICIPANT;PARTSTAT=ACCEPTED;RSVP=TRUE;CN="Nicole M
 axino":https://vbnightlife.com/profile/NicoleMaxino
END:VEVENT
END:VCALENDAR
