BEGIN:VCALENDAR
PRODID:NingEventWidget-v1
VERSION:2.0
METHOD:PUBLISH
BEGIN:VEVENT
UID:2508951:Event:19398
DTSTAMP:20260421T112903Z
SUMMARY:click here for SATURDAY'S BAND / NIGHTLIFE LISTING
DESCRIPTION:All events FREE unless otherwise noted\n\n15th St. Raw Bar
  - VB - \"EVERYBODY LOVES TEQUILA\" 9pm\n37th & ZEN - N \"BIG FUN\"\n4
 0th Street Stage - N Children's Theatre \"OF JESTERS & DRAGONS\" 11am\
 n501 City Grill - VB - LIER JET 9PM\nAbbey Road - VB \"SUZY NATURAL\"\
 nBar None - VB \"THE ATOMIC A'S\" \"SMOKIN ZODIACS\" 9pm $5\nBoneshake
 rs - VB \"ROOT 66\"\nBoot - N \"TRANSMITTERS\" 10pm $5\nCap't Ron's - 
 N \"BLUE LORDS\"\nCatch 31 - VB \"ANDY KIM DEEJAYING LIVE\" 11pm\nChee
 seburger in Paradise - VB \"FLASHBACK 5\"\nChicho's 29th Street - VB \
 "NO DREADS\"\nChrysler Hall - N Generic Theater \"AN EMPTY PLATE IN TH
 E CAFE DU GARAND BOEUF\" 8PM 441-2160\nClub Relevant - VB \"SUMMERFEST
 \" 4pm $10\nClutch Bar & Grill - VB \"THE SIDEKICKS\" 8pm\nCroc's - VB
  \"JESSE CHONG\" 10pm\nFat Tuesday's - VB \"RTB BAND\"\nFrankie's Plac
 e - VB \"ADDICITON=LIFESTYLE\" 9pm\nFunny Bone Comedy Club - VB \"BRUC
 E BRUCE\" $\nGil's Bar & Grill - VB \"CASUALTY\" \"SEVENTH HOUR\" $\nG
 reen Oak Pub - VB \"KRISTOFFER WRIGHT\" 8pm\nGreen Parrot - VB \"HOUSE
  ON FIRE\"\nHalf Shell - VB \"DOWNLOAD\"\nHarrison Opera House - BODY 
 BUILDING COMPETITION\nH2O - VB \"JESSE CHONG\" (H2O 2 year anniversary
  Party) 5pm\nHell's Kitchen - N \"RICH WHISKEY AUDITION\"\nHooks - VB 
 - JAH SEED - reggae 8pm\nHot Tuna - VB \"ROCKSTAR PARKING\"\nKeagans -
  VB Town Center \"JACK BECKER\" 10pm\nKnights of Columbus - N \"BALLRO
 OM DANCE\" 8:30pm 467-3601\nKnuckleheads - VB \"RIVER BOYZ\"\nKokoamos
  - VB \"STRICKLY BIZZNESS\"\nLight House Restaurant - 1201 Atlantic - 
 VB \"ED KELLEHER\" 8-11pm\nMurphy's Irish Pub - VB \"CEANN\" 9pm\nNew 
 Moon Cafe - VB \"DAVE, KATE & ROSS\" 9:30PM\nNorva - N \"MICHAEL FRANT
 I & SPEARHEAD\" 8pm $23\nO'Sullivans Great Neck - VB - DAVID CARTER 9p
 m\nO'Sullivans Wharf - N \"THE HARWELL GRICE BAND\" 8pm\nOtani - VB \"
 RICH MOSSMAN TRIO\"'\nPoppa's Pub - VB \"FOREFRONT\" 9pm\nRegal Beagle
  - VB \"SUBURBAN KEY PARTY\"\nRosy'II - Norfolk \"FORCE\"\nSandbridge 
 Island Bar & GRill - VB \"ED KELLEHER\" 4-8pm\nSandler Center -VB \"TI
 FANII SONGBIRD\" 8pm $\nScandals - VB \"RENDITION\"\nSmithfield's Litt
 le Theater -S \"CHARLES DARDEN\" in concert 7pm\nSouth Beach Grill - V
 B \"EVERYBODY LOVES TEQUILLA\"\nSpring Hill Suites - 10th Street - VB 
 \"MICHAEL HENSEN\" + \"THE UPPERCLASSMEN\" 6:30pm\nStarz - VB \"JERRY 
 LEE SCOTT BAND\"\nTaphouse - N \"WSNB\" 8pm\nTimbuktu Restaurant - VB 
 \"NATURE'S CHILD\" 7pm\nUpper Deck - VB \"D.J. GARY 'US' BARNES\" 8:30
 pm\nVB Convention Center - VB \"BLOWOUT CAR SALE\"\nVirginia Beach Res
 ort & Conf. Center - VB \"SUNSET AT THE BEACH\" Fundraiser 12am\nWater
 side Beach Club - Inside Waterside - N \"T F C\" 6-9pm\nWing King - VB
  \"BADDADZ\"\n\nOUTDOOR EVENTS\n7th STREET STAGE - VB \"BEN PHELPS PRO
 JECT\"\n13th STREET STAGE -VB \"PATSY CLINE TRIBUTE BAND\" 7, 8 & 9pm\
 n17th STREET STAGE\" - VB \"CHARLIE\"\n24th STREET STAGE - VB \"THE MA
 GIC OF KRENDL & CO\" 7:30, 8:30 & 9:30pm\n25th STREET PARK - VB \"THE 
 WITCH OF PUNGO\" 8:30, 9:15 & 10pm\n31st STREET STAGE - VB \"USED MUSI
 C\" + \"AGAINST ALL ODDS\"\n1607: FIRST LANDING - VB \"OUTDOOR DRAMA\"
  6pm\nGreenies - N \"DOUBLE EXPOSURE\" 9:30pm\nOCEAN HOUSE - VB \"JOEY
  WOOD\" 8pm\nSTRINGER'S 18th STREET CAFE - VB \"3 MEN & A BOX\" 8pm\nT
 ed Constant Convocation Center - N On Monarch Way \"HARWELL GRICE BAND
 \" 5pm\nVerizon Wireless Amp. - VB \"CREED\" 7:30pm $35.50\nTowneBank 
 Fountain Park - N - \"LEWIS McGEHEE\" 5pm Dance Night (Beach Music) 7-
 9pm\nTown Center Plaza - VB \"STAN HOWARD\" 7pm\nWaterside Festevents 
 - N (former Black Finn's) \"THE TFC BAND\" 6-9pm\n\nFor more informati
 on visit https://vbnightlife.com/events/click-here-for-saturdays-band-
 19
DTSTART:20090822T040000Z
DTEND:20090823T035900Z
CATEGORIES:band, "/", dj
LOCATION:Virginia Beach / Norfolk
WEBSITE:
URL:
CONTACT:
ORGANIZER;CN="VBnightlife.com":https://vbnightlife.com/profile/admin
ATTACH;FMTTYPE="image/jpeg":http://storage.ning.com/topology/rest/1.0/
 file/get/1664083512?profile=original
ATTENDEE;ROLE=REQ-PARTICIPANT;PARTSTAT=ACCEPTED;RSVP=TRUE;CN="VBnightl
 ife.com":https://vbnightlife.com/profile/admin
END:VEVENT
END:VCALENDAR
