BEGIN:VCALENDAR
PRODID:NingEventWidget-v1
VERSION:2.0
METHOD:PUBLISH
BEGIN:VEVENT
UID:2508951:Event:146983
DTSTAMP:20260423T222641Z
SUMMARY:Click here for SATURDAY'S VIRGINIA BEACH ENTERTAINMENT LISTING
DESCRIPTION:\nENTERTAINMENT: 7th St. Stage - ROCKSTAR PARKING  7-11P
 M11th St. Taphouse - *LOCALS NIGHT* FEAT. THE GET DOWN  10PM13th St. 
 Stage - PATSY CLINE: A TRIBUTE  7-10PM15th St. Raw Bar – DEJA  9PM
 17th St. Stage - RARE MIXX  8-10:30PM31st St. Stage - COASTAL MOTION 
  12-4PM31st St. Stage - MICHAEL CLARK BAND  7-11PM501 City Grill - T
 HE TRAILERHOOD  7PMAbbey Road – LEWIS MCGEHEE  9:30PMBaker Street 
 - BORDERLINE CRAZY  9PMBoneshakers – THE RIGHT COMBINATION  8:30PM
 Green Parrot - BRANDON BOWER DUO  9:30PMHK On The Bay - EVOLUTION 9:3
 0PMIl Giardino – BILLY BATTE 7PMJewish Mother Hilltop - JACKMOVE + S
 ESSION ROCKERS + FAMILY TREE + SEED IS...  9PMKeagan’s - JACK BECKE
 R  10PMLighthouse Beachside Grille - ED KELLEHER  8-11PMLucky Oyster
  - BRENT SHEPARD  8:30PMPoppa’s Pub - HAT TRIX  9:30PMScandals - R
 ENDITION  8PMSouth Beach Grill – PLASTIC EDDIE  9PMTown Center Fou
 ntain Plaza - MOSAIC STEEL DRUM ORCHESTRA  7-10PMWing King - SUZY & T
 HE NATURALS  9PM THEATRE/FUNDRAISERS/CONCERTS/SPORTS:4th St. Beach -
  5TH ANNUAL SURFERS HEALING FUNDRAISER  8AMHaygood Skating Center - D
 OMINION DERBY GIRLS: ST. BRAWLI GIRLS v DIRTY DIESEL DARLINS  7PMSwel
 l - *CORNHOLE TOURNAMENT* ON SOLID GROUND FUNDRAISER  1-7PMVirginia B
 each Field House - CORNHOLE TOURNAMENT FOR ALS  1-4PM  ($20)Virginia
  Beach Field House - BEACH BRAWL II *LIVE BOXING*  7-10PM  ($30/50)T
 ODAY’S TIDES BASEBALL SCHEDULE FOUND ON NORFOLKNIGHTLIFE.COM  DJ
 S/KARAOKE/DANCES:Bayside Bar - DJ JORDAN  10PMCabo Cafe - DJ BRYAN O
 NE 10PMCatherine’s - *KARAOKE* w/ DJ KARIN  9PMChicho’s 29th - DJ
  B EZZY  9:30PMHarry O’s – FAMILY KARAOKE & TALENT 2-5PM || MUSIC
  w/ QUE 9PMKokoamo’s - DJ ROGER  10PMLendy’s - *KARAOKE*Parlays 
  *KARAOKE*Retro Cafe - DJ DEXX  10PMFAMILY FUN/SPECIAL EVENTS:24th 
 St. Stage - KRENDL & COMPANY MAGICAL VARIETY SHOW  7:30-10:30PMHistor
 ic Villages at Cape Henry – “1607: FIRST LANDING”  6PMRed Mill 
 Commons - *SUMMER GREEN MARKET*  8AM-12PM\n \n\n\nFor more informati
 on visit https://vbnightlife.com/events/click-here-for-saturdays-98
DTSTART:20110820T040000Z
DTEND:20110821T035900Z
CATEGORIES:"virginia beach", "virginia beach events", "virginia beach 
 bands", "virginia beach entertainment"
LOCATION:Virginia Beach
WEBSITE:
URL:
CONTACT:
ORGANIZER:VBnightlife.com / VBdaylife.com
ATTACH;FMTTYPE="image/jpeg":http://storage.ning.com/topology/rest/1.0/
 file/get/1664144706?profile=original
ATTENDEE;ROLE=REQ-PARTICIPANT;PARTSTAT=ACCEPTED;RSVP=TRUE;CN="Kathleen
  Fitzpatrick":https://vbnightlife.com/profile/KathleenFitzpatrick
ATTENDEE;ROLE=REQ-PARTICIPANT;PARTSTAT=ACCEPTED;RSVP=TRUE;CN="VBnightl
 ife.com":https://vbnightlife.com/profile/admin
END:VEVENT
END:VCALENDAR
