BEGIN:VCALENDAR
PRODID:NingEventWidget-v1
VERSION:2.0
METHOD:PUBLISH
BEGIN:VEVENT
UID:2508951:Event:79179
DTSTAMP:20260423T132103Z
SUMMARY:Click here for SATURDAY'S VIRGINIA BEACH ENTERTAINMENT LISTING
DESCRIPTION:\nVIEW BASEBALL SCHEDULES IN NORFOLK BY CLICKING HERE\nCLI
 CK HERE REACH OUR VENUE'S PAGE TO FIND ADDRESSES AND PHONE NUMBERS OF 
 PLACES LISTED\nCLICK HERE FOR OUR BAND/DJ PAGE TO FIND DESCRIPTION OF 
 THE BANDS AND LINKS TO THEIR WEB PAGES\nENTERTAINMENT:\nBookings can c
 hange at the last minute, so we recommend checking with the venue befo
 re heading out!\n11th St. Taphouse -  RICH WHISKEY  10PM *LOCALS NIG
 HT*\n15th St. Raw Bar – JACK BECKER 10PM\n501 City Grill – THE OFF
 ICE\nAbbey Road – HUCKLEBERRY ZIMMERMAN 9:30PM \nThe Baja – JESSE
  CHONG 10PM\nBoneshakers – PART TIME SAINTS 8:30PM\nCafé Moka – T
 HE FIFTH SPARROW  8-10PM\nChix Sea Grill & Bar – HEATHER JEANETTE 9
 :30PM\nGreen Parrot – PLASTIC EDDIE\nHK On The Bay – ALMOST FAMOUS
  BAND\nHookah Me Up – FRANK LANCASTER  10PM\nHot Tuna – E.L.T.\nI
 l Giardino – BILLY BATTE 7PM\nKnuckleheads – KRUNCH  8:30PM\nKoko
 amo’s – HEY HEY HOOLIGAN 10PM\nMurphy’s – THE MASTERS\nPoppa
 s Pub – AWAITING THE SON\nSmokey Bones – BRENT SHEPARD 9:30PM\nSo
 uth Beach Grill – BIGGER DREAM  9PM\nWing King – H.R.B.  9-11PM\
 n \nTHEATRE/FUNDRAISERS/CONCERTS/SPORTS:\n24th St. Park – “LIVE B
 Y EXAMPLE” 5K RESCUE RUN 8AM\nAngelo’s Murder Mystery Dinner Theat
 er – “FAIRY TALE MURDER”  7:15PM\nCatholic High School’s Barr
 y Rodinson Theatre – “THE DROWSY CHAPERONE”  2 & 7PM\nCavalier 
 Hotel – SPCA BACK TO THE BEACH SPRING GALA AND SHOW 6PM\nDoubletree 
 Hotel – MYSTERY DINNER PLAYHOUSE: “GAME SHOW MURDERS”  7:30PM\n
 Landstown High School – “THE KING AND I”  7PM\nMiss Kitty’s -
  *JIM WILLIAMS CANCER BENEFIT* FEAT. MULTIPLE BANDS  1-7PM\nPinboys L
 askin Rd. – YOUNG ADULTS FOR ALZHEIMER’S “BLACK TIE BOWLING” 7
 PM\nVirginia Beach Convention Center – US CHEER & DANCE COMPETITION 
 FINALS\nVirginia Beach Field House – SOUTHSIDE PRO WRESTLING FUNDRAI
 SER FOR CYSTIC FIBROSIS 7:15-10PM\n \nDJ’S/KARAOKE/DANCES:\nBrass B
 ell - *KARAOKE* 9PM\nCatch 31 – DJ ANDY KIM\nLendy’s - *KARAOKE*\n
 LunaSea – DJ RAW BASE\nOffice - *KARAOKE*\nParlays – *KARAOKE*\nPl
 aza Azteca - *KARAOKE*\nReef Lounge - *KARAOKE* 9PM\nVirginia Beach Mo
 ose Lodge – SPRING FLING DANCE FEAT. STILL KICKING  7:30-11:30PM\n
 \nFAMILY FUN/SPECIAL EVENTS:\nChurch of the Ascension – TARTAN DAY 
 CEILIDH  7PM\nCox High School Cafeteria – BOOSTERS SPRING BAZAAR  
 9AM-3PM\nCozy Corner – HEALTHY LIVING PANEL 1-3PM\nFalse Cape State 
 Park – EARLY BIRD KAYAK PADDLE \nOld Cape Henry Lighthouse – “O
 UT WITH THE LIGHT” HISTORIC RE-ENACTMENT  10AM-3PM\nPembroke Mall 
  EASTER BUNNY PARADE & PARTY 11AM-1:30PM\nRed Wing Park – FAMILY N
 ITE HIKE  8:30-9:30PM\nWoodstock Park – ONE-EGGSTRAVAGANZA  10AM-1
 PM\n\n\nFor more information visit https://vbnightlife.com/events/clic
 k-here-for-saturdays-9
DTSTART:20110409T040000Z
DTEND:20110410T035900Z
CATEGORIES:"virginia beach", "virginia beach events", "virginia beach 
 bands", "virginia beach entertainment"
LOCATION:VIRGINIA BEACH
WEBSITE:
URL:
CONTACT:
ORGANIZER:VBnightlife.com / VBdaylife.com
ATTACH;FMTTYPE="image/jpeg":http://storage.ning.com/topology/rest/1.0/
 file/get/1664135676?profile=original
ATTENDEE;ROLE=REQ-PARTICIPANT;PARTSTAT=ACCEPTED;RSVP=TRUE;CN="VBnightl
 ife.com":https://vbnightlife.com/profile/admin
END:VEVENT
END:VCALENDAR
