BEGIN:VCALENDAR
PRODID:NingEventWidget-v1
VERSION:2.0
METHOD:PUBLISH
BEGIN:VEVENT
UID:2508951:Event:146947
DTSTAMP:20260424T000910Z
SUMMARY:Click here for SATURDAY'S VIRGINIA BEACH ENTERTAINMENT LISTING
DESCRIPTION:\nCLICK HERE REACH OUR VENUE'S PAGE TO FIND ADDRESSES AND 
 PHONE NUMBERS OF PLACES LISTED\nCLICK HERE FOR OUR BAND/DJ PAGE TO FIN
 D DESCRIPTION OF THE BANDS AND LINKS TO THEIR WEB PAGES\nENTERTAINMENT
 :Bookings can change at the last minute, so we recommend checking with
  the venue before heading out! 7th St. Stage - THINKING CAP TRIO  7-1
 1PM11th St. Taphouse – *LOCALS NIGHT* FEAT. MONKEYBOOTY  9:30PM13th
  St. Stage - PATSY CLINE: A TRIBUTE  7-10PM15th St. Raw Bar - DEJA17t
 h St. Stage - TIDEWATER DRIVE  8PM31st St. Stage – JIMMY JONES TRIO
   12-4PM31st St. Stage - SKYLARK  7-11PM501 City Grill - ELEMENTAbbe
 y Road - MICHAEL HENSEN  9:30PMBaker Street – CORY DANIEL BAND  9P
 MBoneshakers – NITROFISH  8:30PMCalypso - SLACKDOG 6pm\nChichos 29t
 h - THE FASTERMORES, THE ALTERNATIVE, and ACOUSTIC COUNTERFEIT MOLLYFi
 nn McCool’s - ERIC INSLEY  9PMGeared Up Rock Bar - IMPERIAL ORDER +
  MORE BEER + PESTILENCE CHOIR + CORPSEYE  8:30PMGreen Parrot – DAHN
 A ROWE DUOH2O - THE DELOREANS  10PMHK On The Bay - *LIVE ENTERTAINMEN
 T*Hot Tuna - SPIN CITYIl Giardino – BILLY BATTE 7PMJewish Mother Hil
 ltop - THE NIGHTHAWKS  9PM  ($15)Keagan’s - NO CHARGE  10PMKnuckl
 eheads - KRUNCH Kokoamo’s - HEY HEY HOOLIGANLighthouse Beachside Gri
 lle - ED KELLEHER  8-11PMLucky Oyster - THE LAST GOLDFISHPoppa’s Pu
 b - GATORHEAD  9:30PMSandbridge Island - ED KELLEHER 3-7PMScandals - 
 BLUE LORDS  8PMSouth Beach - MICHAEL CLARK BAND  9PM\nSurf Club Ocea
 n Grill - BRANDON BOWER 10PMTHEATRE/FUNDRAISERS/CONCERTS/SPORTS:Haygoo
 d Skating Center - DOMINION DERBY GIRLS *FAN APPRECIATION INTRA-LEAGUE
  BOUT*  7PM  Little Theater of Virginia Beach - “GUYS AND DOLLS”
   8PM ($17/14/5)Motley Mutts - GREAT DANE RESCUE ADOPT-A-THON  10AM-
 1PMVirginia Wesleyan Hofheimer Theatre - SPOTLIGHT PRODUCTIONS PRESENT
 S: “JOSEPH AND THE AMAZING TECHNICOLOR DREAMCOAT”DJ’S/KARAOKE/DA
 NCES:Brass Bell - *KARAOKE* 9PMCatch 31 – *LIVE DJ*Harry O’s – F
 AMILY KARAOKE & TALENT 2-5PM || MUSIC w/ QUE 9PMLendy’s - *KARAOKE*O
 ffice - *KARAOKE*Parlays – *KARAOKE*Plaza Azteca - *KARAOKE*Reef Lou
 nge - *KARAOKE*  9PMRetro Cafe - DJ DEXX  10PMFAMILY FUN/SPECIAL EVE
 NTS:24th St. Stage - KRENDL & COMPANY MAGICAL VARIETY SHOW  7:30-10:3
 0PMHistoric Villages at Cape Henry – “1607: FIRST LANDING”  6PM
 \n\nFor more information visit https://vbnightlife.com/events/click-he
 re-for-saturdays-53
DTSTART:20110716T040000Z
DTEND:20110717T035900Z
CATEGORIES:"virginia beach", "virginia beach events", "virginia beach 
 bands", "virginia beach entertainment"
LOCATION:Virginia Beach
WEBSITE:
URL:
CONTACT:
ORGANIZER:VBnightlife.com / VBdaylife.com
ATTACH;FMTTYPE="image/jpeg":http://storage.ning.com/topology/rest/1.0/
 file/get/1664144624?profile=original
ATTENDEE;ROLE=REQ-PARTICIPANT;PARTSTAT=ACCEPTED;RSVP=TRUE;CN="VBnightl
 ife.com":https://vbnightlife.com/profile/admin
END:VEVENT
END:VCALENDAR
