BEGIN:VCALENDAR
PRODID:NingEventWidget-v1
VERSION:2.0
METHOD:PUBLISH
BEGIN:VEVENT
UID:2508951:Event:79415
DTSTAMP:20260421T115120Z
SUMMARY:Click here for SATURDAY'S VIRGINIA BEACH ENTERTAINMENT LISTING
DESCRIPTION:\nCLICK HERE REACH OUR VENUE'S PAGE TO FIND ADDRESSES AND 
 PHONE NUMBERS OF PLACES LISTED\nCLICK HERE FOR OUR BAND/DJ PAGE TO FIN
 D DESCRIPTION OF THE BANDS AND LINKS TO THEIR WEB PAGES\nENTERTAINMENT
 :\nBookings can change at the last minute, so we recommend checking wi
 th the venue before heading out!\n11th St. Taphouse â€“ BORDERLINE CRA
 ZY 9PM *RHONDAâ€™S BIRTHDAY*\n15th St. Raw Bar â€“ EXPLODING SUN 10PM\
 nAbbey Road â€“KARL WERNE 9:30PM\nBaker Street â€“ SUBURBAN KEY PARTY 
 â€“ 9:30PM\nBoneshakers â€“ DOUG DUNN & STEEL RIVER 8:30PM\nCalypsoâ€™
 s Grill â€“ DEJAÂ  9PM\nCheeseburger in Paradise â€“ BRENT SHEPARD 9PM
 -1\nChix Sea Grill & Bar â€“ PLASTIC EDDIE 9:30PM\nFinn McCoolâ€™s â€“
  JACK BECKER 9PM\nGeared Up Rock Bar â€“ STUCK BACKWARDS + CONSTRUKT +
  OTHERS\nGreen Onion â€“ KATE & DAVEÂ  8-11PM\nGreen Parrot â€“ BRANDO
 N BOWER\nH2O â€“ JESSE CHONG\nHK on the Bay â€“ VEDETTE\nHookah Me Up 
 â€“ BRYAN DUNN 10PM\nHot Tuna â€“ SCOTTY & THE HOTTIES\nIl Giardino â€
 “ BILLY BATTE 7PM\nKnuckleheads â€“ VINYL HEADLIGHTS\nKokoamoâ€™s â€“ 
 THE OFFICE 10PM\nLighthouse Grill â€“ ED KELLEHERÂ  8-11PM\nLucky Oyst
 er â€“ ANDY HARRELL + DANA SILVERCLOUD\nMurphyâ€™s â€“ VAL LITTLEÂ  10
 PM\nNorthlanding Beach Campgrounds â€“ TRAVIS TRITT 6PM\nPoppaâ€™s Pub
  â€“ HAT TRIX\nSandbridge Island Bar & Grill â€“ ED KELLEHER 2-6PM\nSh
 akas â€“ YELLOW SNOWÂ  8-10PM\nSmackwater Jackâ€™s â€“ SAD THING\nSmok
 ieâ€™s â€“ COMMON GROUNDÂ  9PM\nSouth Beach Grill â€“ LEAD 86\nTiki Is
 land Bar & Grill â€“ *CHKD FUNDRAISER* FEAT. NO DREADS\nTown Center Fo
 untain Park - *ART & WINE FESTIVAL* FEAT. AGAINST ALL ODDS 2:30-5:30PM
 \nWing King â€“ PART TIME SAINTS 9-11PM\nÂ \nTHEATRE/FUNDRAISERS/CONCE
 RTS/SPORTS:\n31st St. STAGE â€“ MARCH OF VOICES FEAT. DOUG DUNN & STEE
 L RIVER 10AM-1:30PM\nCamp Pendleton â€“ 40th ANNUAL PIG & OYSTER BASH 
 *YOUTH FOUNDATION BENEIT* FEAT. RIGHT ON BAND + CARBON JAMÂ  1-5PM ($5
 0)Â \nElks Lodge #2268 â€“ SPRING FOWL-UP FEAT. MOCEANÂ  4-7PM\nTiki I
 sland Bar & Grill â€“ TIKI FEST 2011 *CHKD BENEFIT* FEAT. NO DREADS + 
 STEVE FORSS + JACK BECKER + GREY MATTER 12PM\nÂ \n\nÂ \nFAMILY FUN/SPE
 CIAL EVENTS:\n17th St. Beach â€“ KITE FESTIVAL\n24th St. Park â€“ EAST
  COAST SHE CRAB SOUP CLASSICÂ  12-3PM\nNorth Landing Campground â€“ VI
 RGINIA BEACH BIKE CLASSIC FEAT. TRAVIS TRITT + RIGHT ONÂ  ($25)\nVirgi
 nia Beach Convention Center â€“ MY BIG DAY Â 11AM â€“ 4PM\n\n\nFor mor
 e information visit https://vbnightlife.com/events/click-here-for-satu
 rdays-361
DTSTART:20110430T040000Z
DTEND:20110501T035900Z
CATEGORIES:"virginia beach", "virginia beach events", "virginia beach 
 bands", "virginia beach entertainment"
LOCATION:VIRGINIA BEACH
WEBSITE:
URL:
CONTACT:
ORGANIZER:VBnightlife.com / VBdaylife.com
ATTACH;FMTTYPE="image/jpeg":http://storage.ning.com/topology/rest/1.0/
 file/get/1664131980?profile=original
ATTENDEE;ROLE=REQ-PARTICIPANT;PARTSTAT=ACCEPTED;RSVP=TRUE;CN="VBnightl
 ife.com":https://vbnightlife.com/profile/admin
END:VEVENT
END:VCALENDAR
