BEGIN:VCALENDAR
PRODID:NingEventWidget-v1
VERSION:2.0
METHOD:PUBLISH
BEGIN:VEVENT
UID:2508951:Event:295568
DTSTAMP:20260425T190254Z
SUMMARY:Click here for SATURDAY 9/20/14 VIRGINIA BEACH ENTERTAINMENT L
 ISTINGS
DESCRIPTION:LIVE ENTERTAINMENT \n11th Street Taphouse - The Get Down 
 10pm\nAbbey Road Pub -  Pete Hansen 9:30pm\nAJ Gator's - Aragona - Bo
 nnie Harrell Memorial Ovarian Cancer Fundraiser w/ Mike Proffitt\nAmmo
 s Authentic Greek (Great Neck) Belly Dancing Show 8pm every Saturday\
 nBahama Breeze -  Ricky Micou  5pm\nBONESHAKER'S Sports Bar and Gril
 l- Action Jackson  9:30 to 1:30 pm\nCalypso - Seth Stainback 7pm  \n
 Chicho's 29th St - The Reef 10pm\nChix Sea Grill (7th Street) Inside -
   Kaboombox  11pm\nChops - Tim Branson 6 to 9pm\nCobalt Grill - The 
 Blue Mile 7pm\nEagles Nest - HILLTOP -  Dave Cynar Band 9:30pm\nFinn 
 McCool's - Dustin Furlow 9pm\nFroggies - Moaning Lisas 9pm \nGrumpy's
  - Audio Sauce  9pm\nHK on the Bay - The Gold Sauce 10pm\nHot Tuna - 
 DJ Oh Boy 10pm\nIl Giardino - Billy Batte 6pm *\nJagers - Krunch 9pm\n
 Jerry's Restaurant and Lounge - Chesapeake -   Wild Heart  9:30 - 1:
 30am - Get your 1/2 price coupon here: www.vbhotdeals.com\n Keagan's
  -   The Charitones Duo 10pm\nKrossroads Rock & Country Bar - Karaoke
  w/ DJ Moose 9pm\nLighthouse - 12th St - ED KELLEHER\" 8-11pm \nLucky
  Oyster - General Booth - Brandon Peter 8:30pm\nLuLu's - Red Mill - Vi
 nce Kornegay 8:30pm\nMango's Cosmic Debris - 9pm\nMurphy's Irish Pub -
  Cheap Thrills 9pm\nOcean House (19th St Oceanfront) Live Music 7pm\nP
 oppa's Pub - Quik Fix 9pm  \nScotty Quixx (Birdneck) Jack Becker 9pm\
 nSly Fox - Shore Drive - Happy Hour specials from 11:30am to 7pm + Mar
 ty Moore 9pm\nSneeky Pete's (Princess Anne) Karma Kings 9pm\nSouth Bea
 ch Grill - Monkey Fist 9:30pm    \nStan's American Bistro - Ax to G
 rind 9pm\nTapped Gastropub - Mike Proffitt & Dana Silvercloud  9pm  
 \nWing King Rosemont - Rio 9pm\nWing King - KEMPSVILLE - WASTED PRESLE
 Y\nWing King - ROSEMONT - RIO\nWoody McGee's - Cancer Care Foundation 
 Fundraiser - Terry Kemp 7pm Dave Johnson 9pm\n \nOUTDOOR EVENTS / Boa
 rdwalk:\n7th St. Stage (6pm–10:00pm)  Gridlock 64\n17th Street - A
 ll Day - My Big Fat Greek Wedding\n31st St. Stage\n12:00-4:00pm - Sk
 ip Friel\n6:00pm -  Against All Odds\n34th St. Stage (6pm–11:00pm
 )  Matt Redford\nTown Center Fountain - Caribana 6pm\n\nSPECIAL EVENT
 S: \nNAS Oceana Air Show\n 4th Annual Virginia Beach Fallen Heros Fu
 ndraiser\nZombie Wars: Apocalyptic Survival Challenge and After Party 
 for Two \n \n\nFor more information visit https://vbnightlife.com/ev
 ents/click-here-for-saturday-9-20-14-virginia-beach-entertainment-list
DTSTART:20140920T040000Z
DTEND:20140921T035900Z
CATEGORIES:bands, "live entertainment"
LOCATION:Virginia Beach, VA
WEBSITE:
URL:
CONTACT:
ORGANIZER:vbnightlife
ATTACH;FMTTYPE="image/jpeg":http://storage.ning.com/topology/rest/1.0/
 file/get/1664244980?profile=original
ATTENDEE;ROLE=REQ-PARTICIPANT;PARTSTAT=ACCEPTED;RSVP=TRUE;CN="VBnightl
 ife.com":https://vbnightlife.com/profile/admin
END:VEVENT
END:VCALENDAR
