BEGIN:VCALENDAR
PRODID:NingEventWidget-v1
VERSION:2.0
METHOD:PUBLISH
BEGIN:VEVENT
UID:2508951:Event:169648
DTSTAMP:20260424T033240Z
SUMMARY:Click here for SATURDAY 9/17/11 VIRGINIA BEACH ENTERTAINMENT L
 ISTING
DESCRIPTION:\nÂ \nÂ \nENTERTAINMENT:11th St. Taphouse - *LOCALS NIGHT 
 with MONKEY BOOTY* 10pmBoneshakers â€“Â THE RICK MCGEE BANDÂ Â 8:30PMG
 reen Parrot â€“ JACOB VANKO DUOH2O -Â THE DELOREANSÂ Â 9:30PMHK On The
  Bay - *LIVE ENTERTAINMENT*Il Giardino â€“ BILLY BATTE 7PMKokoamoâ€™s 
 - *LIVE ENTERTAINMENT*Lighthouse Beachside Grille - ED KELLEHER Â 8-11
 PMLucky Oyster - ROCK STAR PARKINGScandals - *BLUE LORDS* Â 8PMSouth B
 each Grill â€“ *MY 2 CENTS* 9PMSwell â€“ *1/2 St. PATRICK'S DAY with C
 HEAP THRILLS* Â 9:30PM501 City Grill- ELEMENT\nAbbey Road- LOUIS SMITH
 \nBaker Street- BORDERLINE CRAZY\nFlashback- RED STAPLER\nHot Tuna- SP
 IN CITY\nJewish Mother- TAB BENOIT\nKnuckelheads- VINYL HEADLIGHTS\nPo
 ppa's Pub- STRANGE BREW\nÂ \nTHEATRE/FUNDRAISERS/CONCERTS/SPORTS:LeAnn
  Rimes: Sandler Center for the Arts: 8pm (*ticketed event)The Noblewom
 en's Locals Luau: First Landing State Park: 8pm (*ticketed event)DJâ€™
 S/KARAOKE/DANCES:15th Street Raw Bar- DEJA rox 9pmBrass Bell - *KARAOK
 E* 9PMCatch 31 â€“ *LIVE DJ*Chichoâ€™s 29th - DJ B EZZY Â 9:30PMHarry 
 Oâ€™s â€“ FAMILY KARAOKE & TALENT 2-5PM || MUSIC w/ QUE 9PMKokoamoâ€™s
  - DJ ROGER 10PMLendyâ€™s - *KARAOKE*LunaSea - DJ TRIGGA Â 10PMOffice 
 - *KARAOKE*Parlays â€“ *KARAOKE*Plaza Azteca - *KARAOKE*Reef Lounge - 
 *KARAOKE* Â 9PMRetro Cafe - DJ DEXX Â 10PMFAMILY FUN/SPECIAL EVENTS:Me
 diterranean Weekend: Virginia Beach Oceanfront (*fee for admission)\nR
 ed Mill Commons Shopping Center- SUMMER GREEN MARKET 8am-12pm Â FREE Â
  \nAC Moore- Kids Craft Class (Ages 5+) Cost $5\nAll LOWES- Lowes Buil
 d and Grow 10am-12pm FREE\nPeace Love and Balance- 4th Annual Internat
 ion Day of Peace 10am -8pm FREE music art dance yoga and more...\nPemb
 roke Mall near food court- Talk Like A Pirate Day 11am-1pmÂ  FREE\nÂ \
 nBookings can change at the last minute, so we recommend checking with
  the venue before heading out!CLICK HERE REACH OUR VENUE'S PAGE TO FIN
 D ADDRESSES AND PHONE NUMBERS OF PLACES LISTEDCLICK HERE FOR OUR BAND/
 DJ PAGE TO FIND DESCRIPTION OF THE BANDS AND LINKS TO THEIR WEB PAGES\
 n\nFor more information visit https://vbnightlife.com/events/click-her
 e-for-saturday-9-17-11-virginia-beach-entertainment-list
DTSTART:20110917T040000Z
DTEND:20110918T035900Z
CATEGORIES:"virginia beach events", "virginia beach entertainment", "v
 irginia beach bands", "virginia beach djs", "virginia beach family fun
 ", "virginia beach fundraisers"
LOCATION:Virginia Beach
WEBSITE:
URL:
CONTACT:
ORGANIZER:VBnightlife.com / VBdaylife.com
ATTACH;FMTTYPE="image/jpeg":http://storage.ning.com/topology/rest/1.0/
 file/get/1664151743?profile=original
ATTENDEE;ROLE=REQ-PARTICIPANT;PARTSTAT=ACCEPTED;RSVP=TRUE;CN="VBnightl
 ife.com":https://vbnightlife.com/profile/admin
END:VEVENT
END:VCALENDAR
