BEGIN:VCALENDAR
PRODID:NingEventWidget-v1
VERSION:2.0
METHOD:PUBLISH
BEGIN:VEVENT
UID:2508951:Event:202286
DTSTAMP:20260422T123100Z
SUMMARY:Click here for SATURDAY 9/15/12 VIRGINIA BEACH ENTERTAINMENT L
 ISTINGS
DESCRIPTION:LIVE ENTERTAINMENT\n7th Street Stage- The Office, 7-11PM\n
 17th & 24th Street Park- Mediterranean (all day)\n31st Street Park- Ag
 ainst All Odds, 7-11PM\n11th Street Taphouse- Locals Night w/Pridemor
 e, 10PM\n15th Street Raw Bar- Camhead & The Noisemakers, 9PM\n501 Cit
 y Grill- Live Entertainment, 9PM-1AM\nBoneshakers- Live Entertainment
 , 9PM\nAbbey Road- Doug Dunn & Steel River\nBaker Street- Live Enterta
 inment\nCinema Cafe- Comedy at the Cafe\nCalypso- Skip Friel, 4-8PM, L
 ive Entertainment, 8PM-1AM\nChix- Evolution, 11PM-2AM\nFresh Tapas and
  Tonics- Michelle King and The Blue Mile\nH20- Jesse Chong, 9:30PM\nHa
 vanah Nights- Cocktail Piano (Wed.-Sat.) w/Justin Kauflin, 5-7PM, Just
 in Kauflin Trio, 8 &10PM, Late Night Show (Every Fri,& Sat.,11:30PM-1
 AM) w/ Vince Barbour Trio\nH K on the Bay- Live Entertainment, 8PM\nHo
 t Tuna- Fine Swiss Cheese, 10PM\nIL Giardino- Live Entertainment in t
 he lounge w/ Mr. Billy Batte- 7PM\nGrumpy's- Excess\nKeagans-Mink N Ch
 eef, 10PM\nKnuckleheads- Kustom Made, 9PM\nMurphys- Halfway to St. Pat
 rick's Day\nPoppas Pub- Good Stuff\nSide Street Cantina- DJ Aetgy\nSca
 ndals- Audio Sauce\nSouth Beach Grill- BUTTER\nWoody McGees- Legacy, 9
 :30PM-12:30AM\n \n \nDJ’S/KARAOKE/DANCES:\nAJ Gators (Fairfield)- 
 Karaoke\nAJ Gators (Holland Road)- Karaoke W/ Scotty, 9PM\nRetro Cafe-
  Karaoke\nPeabodys- Bash at the Beach w/ DJ Kendall (Every Saturday)\n
 Secrets- Karaoke w/ El Mike, 9PM-1AM\n\nFor more information visit htt
 ps://vbnightlife.com/events/click-here-for-saturday-9-15-12-virginia-b
 each-entertainment-list
DTSTART:20120915T040000Z
DTEND:20120916T035900Z
CATEGORIES:"virginia beach entertainment", "virginia beach nightlife",
  "virginia beach bands"
LOCATION:Virginia Beach
WEBSITE:
URL:
CONTACT:
ORGANIZER:VBnightlife.com (Dionna Campanella)
ATTACH;FMTTYPE="image/jpeg":http://storage.ning.com/topology/rest/1.0/
 file/get/1664179027?profile=original
ATTENDEE;ROLE=REQ-PARTICIPANT;PARTSTAT=ACCEPTED;RSVP=TRUE;CN="VBnightl
 ife.com":https://vbnightlife.com/profile/admin
END:VEVENT
END:VCALENDAR
