BEGIN:VCALENDAR
PRODID:NingEventWidget-v1
VERSION:2.0
METHOD:PUBLISH
BEGIN:VEVENT
UID:2508951:Event:294736
DTSTAMP:20260425T190254Z
SUMMARY:Click here for SATURDAY 8/30/14 VIRGINIA BEACH ENTERTAINMENT L
 ISTINGS
DESCRIPTION:LIVE ENTERTAINMENT \nAbbey Road Pub -  Jason Ross  9pm\
 nBahama Breeze - JuJu Caribbean Steel Band 5pm\nBaja Sandbridge - DJ 9
 pm every Saturday\nBONESHAKER'S Sports Bar and Grill-  Krunch 9:30 to
  1:30 pm\nBayside - Borderline Crazy 9pm\nBucketheads - Johnny Rock Ac
 oustic - 8 to 11pm\nCalypso - Cody Austin Band 7pm  \nChix Sea Grill 
 (7th Street)  DJ Ready Inside -   11pm\nEagles Nest - HILLTOP -  DJ
  Ty Stewart\nFresh Eats and Drinks - The Blue Mile 9pm - Enjoy 1/2 of
 f food and drink with this coupon\nFroggies - Pig Pickin' party w/ the
  Baddadz  9pm \nHot Tuna - Vinyl Headlights  9pm\nIl Giardino - Bil
 ly Batte 6pm \nJagers -  Cody Austin Band 9pm\nJerry's Restaurant an
 d Lounge - Chesapeake -  Asphalt Jungle   9:30 - 1:30am - Get your 1
 /2 price coupon here: www.vbhotdeals.com \nKeagan's -  VINCE KORNEG
 AY 10pm + UFC\nLighthouse - 12th St - ED KELLEHER\" 8-11pm \nPoppa's 
 Pub - Nitrofish 9pm  \nSouth Beach Grill - Quik Fix 9:30pm    \nSta
 n's American Bistro - DJ Stan's Dance Party 8pm Tubby's Tavern - David
  Carter 8 to 11pm\nWoody McGee's -  Marah and Jimmy 9pm\n \nOUTDOOR 
 STAGES\n5th Street Main Stage (6:00pm doors) - $20 in advance/$25 day 
 of show 7:00pm  - Creedence Clearwater Revisited with Blues Travele
 r\n12th Street Boardwalk Stage - free 6:30pm - Session Rockers \n17
 th Street Park (6:30pm doors) - free 7:30pm - Cherry Poppin Daddies 
 with Major & the Monbacks\n19th Street Boardwalk Stage - free 6:30pm 
 - The Shack Band \n24th Street Park - free Noon-1:00pm & 2:00pm-3:0
 0pm - Rocknoceros  (family matinee)\n24th Street Park (7:00pm doors)
  - free 8:00pm\nSalute to  - The Platters, Cornell Gunters Coasters
 , and Drifters Revue \n27th Street Boardwalk Stage - free 6:30pm - 
 The Band Concord \n31st Street Park (6:30pm doors) - free 7:30pm  -
  Rusted Root  with Seth Stainback & Roosterfoot  \n\nSPECIAL EVENTS
 :\nLarry Graham in Norfolk \nBeach Gallery - Featured Artist Will Co
 rr showing recent works on canvas, board and paper thru Sept 13th. \n
 \nFOR A NEWLY UPDATED HAPPY HOUR LISTING WITH DAILY FOOD AND DRINK DEA
 LS Visit the \"Happy Hour\" Button on the App  \n\n\n \n\nFor more 
 information visit https://vbnightlife.com/events/click-here-for-saturd
 ay-8-30-14-virginia-beach-entertainment-list
DTSTART:20140830T040000Z
DTEND:20140831T035900Z
CATEGORIES:bands, "live entertainment"
LOCATION:Virginia Beach, VA
WEBSITE:
URL:
CONTACT:
ORGANIZER:vbnightlife
ATTACH;FMTTYPE="image/jpeg":http://storage.ning.com/topology/rest/1.0/
 file/get/1664247107?profile=original
ATTENDEE;ROLE=REQ-PARTICIPANT;PARTSTAT=ACCEPTED;RSVP=TRUE;CN="VBnightl
 ife.com":https://vbnightlife.com/profile/admin
END:VEVENT
END:VCALENDAR
