BEGIN:VCALENDAR
PRODID:NingEventWidget-v1
VERSION:2.0
METHOD:PUBLISH
BEGIN:VEVENT
UID:2508951:Event:313086
DTSTAMP:20260425T202438Z
SUMMARY:Click here for SATURDAY 8/29/15 VIRGINIA BEACH EVENT & ENTERTA
 INMENT LISTINGS
DESCRIPTION:Special Events\n** FREE POOL ALL DAY**Â Longshots Billiard
 s & DartsÂ Chesapeake- 9th BIRTHDAY PARTY WITH 80s Bash Featuring TheÂ
  DeloreansÂ 9pm\nFireworksÂ - Funkfest - 10:45p\nAdventure ParkÂ Â $5 
 Off General Admission With Promo Code VBLIFE here:Â http://bit.ly/1FhD
 qIF\nAssociation for Research and Enlightenment (A.R.E.) OceanfrontÂ C
 lick for events calendar\n\nLIVE ENTERTAINMENT\n11th Street Taphouse -
 Â Audio AffairÂ 9p\n7th Street Stage -Â Skip Friel & The Resonators No
 on to 4p, The Fuzz Band 7p\n24th Street Park - FunkFest\n\n6:00pm-7:30
 pm, DJ Heart Attack\n8:00pm-9:00pm, Joselyn Best\n9:30pm-10:45pm, Larr
 y Graham & Graham Central Station\n\n31st Street Park -Â Coastal VA Be
 er Fest\n\nJacob Vanko 1 to 3pm\nWhiskey Rebellion 3:30 to 6\n\n\n\n\n
 \n\n34th Street Stage - Ken McNeil Duo 12p Bam Bam Betty Duo 7p\nBaham
 a Breeze - HM Johnson Band 4 to 8p\nBoneshakers - Feral (Full band) 9p
  inside\nCalypso Bar & Grill -Atlantic Ave- Cody Austin Band 7p, DJ Ra
 ys 10p\nChicho's - 29th - Jesse Chong Band 10p\nChops /Â Home Republic
  Patio - Aaron Firestone 6p\nEagles Nest - Honky Tonk Heroes 9p\nFrogg
 ie's Cantina By The BayÂ - Shore Drive -Â Jacob Vanko BandÂ 8:30p\nJer
 ry's Restaurant & Lounge - Chesapeake - The Blue Lords 9p\nKeagan's Ir
 ish Pub -Town Center-Â Rockstar Parking 10p\nLongshots Billiards and D
 arts - Chesapeake - The Delorean's 9PM + Longshots Birthday Bash!\nMur
 phy's Irish PubÂ -Â Seth StainbackÂ 9p\nRY Lounge - Oceanfront - DJ & 
 Dancing 10p\nSouth Beach Grill -Â  Quik Fix 9:30p\nTapped Gastropub - 
 Hilltop-Â David CarterÂ 10pÂ \nThe Pearl Club - Great Neck - DJ 10pm\n
 Wing King - Rosemont -Â RIOÂ  9p COUPON\nWing KingÂ - CentervilleÂ -Â 
 Â 9p COUPON\nWoody McGees - Holland Road - Dave Johnson 9p\n\nFor more
  information visit https://vbnightlife.com/events/click-here-for-satur
 day-8-29-15-virginia-beach-event-entertainmen
DTSTART:20150829T040000Z
DTEND:20150830T035900Z
CATEGORIES:"virginia beach", "virginia beach nightlife", "virginia bea
 ch bands", "virginia beach entertainment", "events in virginia beach",
  "things to do in virginia beach", "mobile app virginia beach"
LOCATION:Virginia Beach, VA
WEBSITE:
URL:
CONTACT:
ORGANIZER:VBnightlife / VBdaylife
ATTACH;FMTTYPE="image/jpeg":http://storage.ning.com/topology/rest/1.0/
 file/get/1664281955?profile=original
ATTENDEE;ROLE=REQ-PARTICIPANT;PARTSTAT=ACCEPTED;RSVP=TRUE;CN="VBnightl
 ife.com":https://vbnightlife.com/profile/admin
END:VEVENT
END:VCALENDAR
