BEGIN:VCALENDAR
PRODID:NingEventWidget-v1
VERSION:2.0
METHOD:PUBLISH
BEGIN:VEVENT
UID:2508951:Event:200495
DTSTAMP:20260422T152457Z
SUMMARY:Click here for SATURDAY 8/25/12 VIRGINIA BEACH ENTERTAINMENT L
 ISTINGS
DESCRIPTION:LIVE ENTERTAINMENT\n7th Street Stage- The Office, 7-11PM\n
 11th Street Taphouse- Locals Night w/Brandon Bower, 10PM\n13th Street
 -Playlist, 7PM,8PM,9PM\n15th Street Raw Bar- Rock Tones, 9PM\n17th St
 reet Park- Canyon Road band, 8-10:30PM\n24th Street Park- FunkFest Bea
 ch Party (all day)\n25th Street- Naval Airpower Legacy, 8:45PM & 9:30P
 M\n27th Street Park- The Witch of Pungo, 8:30,9:15, & 10PM\n31st Stree
 t Park- Against All Odds,12-4PM, Butter, 7-10PM\n501 City Grill- Live
  Entertainment, 9PM-1AM\nBoneshakers- Blue Lords, 9PM\nAbbey Road- Abb
 ey Road- Pete Hanson & Larry Emmanuel\nAJ Gators- Bryann Dunn\nBusky's
 - Steppen Stone\nBaker Street- Live Entertainment\nCinema Cafe- Comedy
  at the Cafe\nCalypso- Dave and the Dark Matter, 5-8PM, The Fold, 8PM-
 1AM\nChix- Zephyr, 11PM-2AM\nFinn McCools- The Venture Rays\nH20- Live
  Entertainment, 9:30PM\nHavanah Nights- Cocktail Piano (Wed.-Sat.) w/J
 ustin Kauflin, 5-7PM, Justin Kauflin Trio, 8 &10PM, Late Night Show (
 Every Fri,& Sat.,11:30PM-1AM) w/ Vince Barbour Trio\nH K on the Bay- L
 ive Entertainment, 8PM\nHot Tuna- Rockstar Parking, 10PM\nIL Giardino-
  Live Entertainment in the lounge w/ Mr. Billy Batte- 7PM\nKeagans- P
 ridemore, 10PM\nKnuckleheads- Borderline Crazy, 9PM\nLighthouse- Ed Ke
 lleher\nMurphys- Brian Halloran\nOcean House- Skipi Friel, 7PM\nPoppas
  Pub- Common Ground\nScandals- Rock Candy\nSide Street Cantina- DJ Aet
 gy\nSouth Beach Grill- Pawnshop Lifters\nSurf Club Ocean Grille- The
  BADDADZ, 6-9PM\nSunset Beach Resort Hotel- mOcean, 2-6PM\nWoody McGee
 s- Red Stapler, 9:30PM-12:30AM\n  \nFAMILY FUN/SPECIAL EVENTS:\nECSC
 \n2nd Street\nCoastal Edge ECSC Inaugural “Rock the Walk” Fashion 
 Show, 4-5PM\nVans presents: The Aggrolites, 5-6PM\nNeff presents: Irat
 ion, 6-7PM\n4th Street\nShawn Owen, 3-4PM\nThe Milk Stains, 5-6PM\nThe
  Deloreans, 6:30-7:30PM\nFM 99 presents: Donavon Frankenreiter, 8-10PM
 \n \nDJ’S/KARAOKE/DANCES:\nAJ Gators (Fairfield)- Karaoke\nAJ Gator
 s (Holland Road)- Karaoke W/ Scotty, 9PM\nRetro Cafe- Karaoke\nPeabody
 s- Bash at the Beach w/ DJ Kendall (Every Saturday)\nSecrets- Karaoke 
 w/ El Mike, 9PM-1AM\n\nFor more information visit https://vbnightlife.
 com/events/click-here-for-saturday-8-25-12-virginia-beach-entertainmen
 t-list
DTSTART:20120825T040000Z
DTEND:20120826T035900Z
CATEGORIES:"virginia beach entertainment", "virginia beach nightlife",
  "virginia beach bands"
LOCATION:Virginia Beach
WEBSITE:
URL:
CONTACT:
ORGANIZER:VBnightlife.com (Dionna Campanella)
ATTACH;FMTTYPE="image/jpeg":http://storage.ning.com/topology/rest/1.0/
 file/get/1664175578?profile=original
ATTENDEE;ROLE=REQ-PARTICIPANT;PARTSTAT=ACCEPTED;RSVP=TRUE;CN="VBnightl
 ife.com":https://vbnightlife.com/profile/admin
END:VEVENT
END:VCALENDAR
